BEGIN:VCALENDAR
VERSION:2.0
PRODID:-//Astronomical Society of Greenbelt - ECPv6.15.3//NONSGML v1.0//EN
CALSCALE:GREGORIAN
METHOD:PUBLISH
X-ORIGINAL-URL:https://greenbeltastro.org
X-WR-CALDESC:Events for Astronomical Society of Greenbelt
REFRESH-INTERVAL;VALUE=DURATION:PT1H
X-Robots-Tag:noindex
X-PUBLISHED-TTL:PT1H
BEGIN:VTIMEZONE
TZID:America/New_York
BEGIN:DAYLIGHT
TZOFFSETFROM:-0500
TZOFFSETTO:-0400
TZNAME:EDT
DTSTART:20240310T070000
END:DAYLIGHT
BEGIN:STANDARD
TZOFFSETFROM:-0400
TZOFFSETTO:-0500
TZNAME:EST
DTSTART:20241103T060000
END:STANDARD
END:VTIMEZONE
BEGIN:VEVENT
DTSTART;TZID=America/New_York:20241207T180000
DTEND;TZID=America/New_York:20241207T200000
DTSTAMP:20260424T195345
CREATED:20240711T011644Z
LAST-MODIFIED:20240711T011644Z
UID:1630-1733594400-1733601600@greenbeltastro.org
SUMMARY:Greenbelt Star Party
DESCRIPTION:Weather permitting\, we will hold a star party at the Greenbelt Observatory. The observatory will be open to visitors to view the wonders of the heavens. People are also welcome to bring their own telescopes to set up for observation.  This star party will focus on the moon\, although we will also view other celestial wonders as time permits.\nThe event is open to members and non-members of all ages at no cost. We provide a fun\, family-friendly environment for learning about the universe. This is a great way to meet other astronomers in the community. And\, if you are new to the hobby\, members are always willing to help you learn how to use your telescope. \nOur star parties generally begin about an hour after sunset and run for two hours.  \nPlease note that star parties may be canceled without prior notice in the event of overcast skies or extremely inclement weather conditions. In addition\, the observatory is made of metal and has no heating or cooling system. Please be aware that the temperature inside will be roughly the same inside as it is outside\, although in summer it is sometimes hotter inside. Please dress accordingly. \nIn accordance with Prince George’s County guidelines\, masks are voluntary.
URL:https://greenbeltastro.org/event/greenbelt-star-party-25/
LOCATION:City of Greenbelt Observatory\, 8101 Northway Road\, Greenbelt\, MD\, 20770\, United States
CATEGORIES:Star Parties
END:VEVENT
BEGIN:VEVENT
DTSTART;TZID=America/New_York:20241209T193000
DTEND;TZID=America/New_York:20241209T203000
DTSTAMP:20260424T195345
CREATED:20241216T025708Z
LAST-MODIFIED:20241216T025708Z
UID:1672-1733772600-1733776200@greenbeltastro.org
SUMMARY:Officers' Meeting
DESCRIPTION:The officers of the Astronomical Society of Greenbelt meet each month to plan the club’s activities\, including upcoming speakers. If you have a suggestion for an activity or a speaker\, please contact them ahead of the meeting.
URL:https://greenbeltastro.org/event/officers-meeting-20/
LOCATION:Zoom
CATEGORIES:Officers Meeting
END:VEVENT
BEGIN:VEVENT
DTSTART;TZID=America/New_York:20241219T190000
DTEND;TZID=America/New_York:20241219T210000
DTSTAMP:20260424T195345
CREATED:20241216T025127Z
LAST-MODIFIED:20241216T025127Z
UID:1669-1734634800-1734642000@greenbeltastro.org
SUMMARY:Solstice Potluck Party
DESCRIPTION:The Astronomical Society of Greenbelt will host our annual Solstice Potluck Party on Thursday\, December 19\, 7:00 pm–9:00 pm\, at the Greenbelt Community Center. We hope everyone can attend in person since this is your chance to get together in real life and have conversations with other astronomers.   \nPlease bring food to share. Whip up your favorite special recipe or just buy something (no judgment). Whatever you want.  We don’t assign food\, but we currently have beverages\, cups\, plates\, napkins\, and cutlery\, plus one dessert and some ASG traditions like the fruit and cheese plate and the Doug Love Memorial Vegetarian Lasagna. Other than that\, this is a true potluck dinner.
URL:https://greenbeltastro.org/event/solstice-potluck-party/
LOCATION:Greenbelt Community Center\, 15 Crescent Road\, Greenbelt\, MD\, 20770\, United States
CATEGORIES:Solstice Party
END:VEVENT
END:VCALENDAR