BEGIN:VCALENDAR
VERSION:2.0
PRODID:-//Astronomical Society of Greenbelt - ECPv6.15.3//NONSGML v1.0//EN
CALSCALE:GREGORIAN
METHOD:PUBLISH
X-WR-CALNAME:Astronomical Society of Greenbelt
X-ORIGINAL-URL:https://greenbeltastro.org
X-WR-CALDESC:Events for Astronomical Society of Greenbelt
REFRESH-INTERVAL;VALUE=DURATION:PT1H
X-Robots-Tag:noindex
X-PUBLISHED-TTL:PT1H
BEGIN:VTIMEZONE
TZID:America/New_York
BEGIN:DAYLIGHT
TZOFFSETFROM:-0500
TZOFFSETTO:-0400
TZNAME:EDT
DTSTART:20260308T070000
END:DAYLIGHT
BEGIN:STANDARD
TZOFFSETFROM:-0400
TZOFFSETTO:-0500
TZNAME:EST
DTSTART:20261101T060000
END:STANDARD
END:VTIMEZONE
BEGIN:VEVENT
DTSTART;TZID=America/New_York:20261217T190000
DTEND;TZID=America/New_York:20261217T210000
DTSTAMP:20260424T064710
CREATED:20260124T201955Z
LAST-MODIFIED:20260124T202258Z
UID:1996-1797534000-1797541200@greenbeltastro.org
SUMMARY:Winter Solstice Potluck Party
DESCRIPTION:The Astronomical Society of Greenbelt’s annual solstice party and potluck will be held on Thursday\, December 17\, at 7:00 pm in Room 114 of the Greenbelt Community Center. Bring food to share\, and enjoy socializing and conversation with others interested in astronomy. \nThis event is in-person only.
URL:https://greenbeltastro.org/event/winter-solstice-potluck-party/
LOCATION:Greenbelt Community Center\, 15 Crescent Road\, Greenbelt\, MD\, 20770\, United States
END:VEVENT
END:VCALENDAR