BEGIN:VCALENDAR
VERSION:2.0
PRODID:-//Astronomical Society of Greenbelt - ECPv6.15.3//NONSGML v1.0//EN
CALSCALE:GREGORIAN
METHOD:PUBLISH
X-ORIGINAL-URL:https://greenbeltastro.org
X-WR-CALDESC:Events for Astronomical Society of Greenbelt
REFRESH-INTERVAL;VALUE=DURATION:PT1H
X-Robots-Tag:noindex
X-PUBLISHED-TTL:PT1H
BEGIN:VTIMEZONE
TZID:America/New_York
BEGIN:DAYLIGHT
TZOFFSETFROM:-0500
TZOFFSETTO:-0400
TZNAME:EDT
DTSTART:20210314T070000
END:DAYLIGHT
BEGIN:STANDARD
TZOFFSETFROM:-0400
TZOFFSETTO:-0500
TZNAME:EST
DTSTART:20211107T060000
END:STANDARD
END:VTIMEZONE
BEGIN:VEVENT
DTSTART;VALUE=DATE:20210504
DTEND;VALUE=DATE:20210506
DTSTAMP:20260425T073151
CREATED:20210517T001717Z
LAST-MODIFIED:20210517T002220Z
UID:205-1620086400-1620259199@greenbeltastro.org
SUMMARY:Eta Aquariids
DESCRIPTION:The Eta Aquariids are a strong shower when viewed from the southern hemisphere. From the equator northward\, they usually only produce medium rates of 10–30 per hour just before dawn. Although the shower is active April 19–May 28\, activity is best around the peak on May 4–5. \nFor more information on meteor showers\, visit the American Meteor Society.
URL:https://greenbeltastro.org/event/eta-aquariids/
LOCATION:MD
CATEGORIES:Meteor Showers
END:VEVENT
BEGIN:VEVENT
DTSTART;TZID=America/New_York:20210426T210000
DTEND;TZID=America/New_York:20210426T230000
DTSTAMP:20260425T073151
CREATED:20210426T031935Z
LAST-MODIFIED:20210426T033342Z
UID:93-1619470800-1619478000@greenbeltastro.org
SUMMARY:Virtual Star Party
DESCRIPTION:At this event\, we’ll be focusing mainly on Virgo Cluster galaxies\, as these are currently high in the sky. Chad Leader and Conrad Terrill will be doing the imaging from telescopes set up in their back yards. Conrad will be doing close-up imaging and Chad will handle wide-field views. All are welcome to join the Zoom session\, whether they are members of the Astronomical Society of Greenbelt or not.  The session will open around 8:45 PM EDT.  Chad and Conrad plan to be polar-aligned and ready to go around 9:00 PM EDT. \nZoom Information\nLink: https://us02web.zoom.us/j/84031946452?pwd=c3graTdiTVU1OXllVjBrbVV5UlBWUT09\nMeeting ID: 840 3194 6452\nPasscode: 539915\nOne-tap mobile\n\n+13017158592\,\,84031946452#\,\,\,\,*539915# US (Washington DC)\n+13126266799\,\,84031946452#\,\,\,\,*539915# US (Chicago)\n\nDial by your location\n\n+1 301 715 8592 US (Washington DC)\n+1 312 626 6799 US (Chicago)\n+1 646 558 8656 US (New York)\n+1 669 900 9128 US (San Jose)\n+1 253 215 8782 US (Tacoma)\n+1 346 248 7799 US (Houston)\nFind your local number
URL:https://greenbeltastro.org/event/virtual-star-party/
LOCATION:Zoom
CATEGORIES:Star Parties
END:VEVENT
BEGIN:VEVENT
DTSTART;VALUE=DATE:20210421
DTEND;VALUE=DATE:20210423
DTSTAMP:20260425T073151
CREATED:20210428T052454Z
LAST-MODIFIED:20210517T002302Z
UID:110-1618963200-1619135999@greenbeltastro.org
SUMMARY:Lyrids
DESCRIPTION:The Lyrids is a medium strength shower that usually produces good rates for three nights centered on the maximum. These meteors also usually lack persistent trains but can produce fireballs. They are best seen from the northern hemisphere where the radiant is high in the sky at dawn. Activity from this shower can be seen from the southern hemisphere\, but at a lower rate. \nThe Lyrids are active April 16–30\, 2021\, with their peak of activity coming on the night of April 21–22. \nFor more information on meteor showers\, visit the American Meteor Society.
URL:https://greenbeltastro.org/event/lyrids/
LOCATION:MD
CATEGORIES:Meteor Showers
END:VEVENT
END:VCALENDAR