BEGIN:VCALENDAR
VERSION:2.0
PRODID:-//Astronomical Society of Greenbelt - ECPv6.15.3//NONSGML v1.0//EN
CALSCALE:GREGORIAN
METHOD:PUBLISH
X-WR-CALNAME:Astronomical Society of Greenbelt
X-ORIGINAL-URL:https://greenbeltastro.org
X-WR-CALDESC:Events for Astronomical Society of Greenbelt
REFRESH-INTERVAL;VALUE=DURATION:PT1H
X-Robots-Tag:noindex
X-PUBLISHED-TTL:PT1H
BEGIN:VTIMEZONE
TZID:America/New_York
BEGIN:DAYLIGHT
TZOFFSETFROM:-0500
TZOFFSETTO:-0400
TZNAME:EDT
DTSTART:20210314T070000
END:DAYLIGHT
BEGIN:STANDARD
TZOFFSETFROM:-0400
TZOFFSETTO:-0500
TZNAME:EST
DTSTART:20211107T060000
END:STANDARD
END:VTIMEZONE
BEGIN:VEVENT
DTSTART;VALUE=DATE:20211007
DTEND;VALUE=DATE:20211010
DTSTAMP:20260425T114620
CREATED:20210910T185338Z
LAST-MODIFIED:20210910T190154Z
UID:409-1633564800-1633823999@greenbeltastro.org
SUMMARY:Draconid Meteor Shower
DESCRIPTION:The radiant point for the Draconids is the head of the dragon in the constellation Draco. The peak is on the evening of October 8. Unlike most meteor showers\, this one is best viewed in the early evening. This year\, a waxing crescent moon will set during dusk\, so it won’t obscure the shower. The Draconids does not usually produce a lot of meteors\, although in certain years it has featured a surprisingly high number.
URL:https://greenbeltastro.org/event/draconid-meteor-shower/
CATEGORIES:Meteor Showers
END:VEVENT
BEGIN:VEVENT
DTSTART;TZID=America/New_York:20210930T193000
DTEND;TZID=America/New_York:20210930T210000
DTSTAMP:20260425T114620
CREATED:20210920T015545Z
LAST-MODIFIED:20210930T231205Z
UID:423-1633030200-1633035600@greenbeltastro.org
SUMMARY:September Meeting: Using Gravitational Lenses as Natural Telescopes
DESCRIPTION:Dr. Tim Hamilton\, professor of physics and director of the Clark Planetarium at Shawnee State University\, will present a lecture entitled “Using Gravitational Lenses as Natural Telescopes.”\n\nThis event is free and open to the public. \nJoin the Zoom meeting.
URL:https://greenbeltastro.org/event/september-meeting-using-gravitational-lenses-as-natural-telescopes/
LOCATION:Zoom
CATEGORIES:Educational Events
END:VEVENT
BEGIN:VEVENT
DTSTART;TZID=America/New_York:20210913T193000
DTEND;TZID=America/New_York:20210913T210000
DTSTAMP:20260425T114620
CREATED:20210908T194735Z
LAST-MODIFIED:20211109T023215Z
UID:397-1631561400-1631566800@greenbeltastro.org
SUMMARY:Officers' Meeting
DESCRIPTION:
URL:https://greenbeltastro.org/event/officers-meeting-3/
LOCATION:Zoom
CATEGORIES:Officers Meeting
END:VEVENT
BEGIN:VEVENT
DTSTART;TZID=America/New_York:20210911T203000
DTEND;TZID=America/New_York:20210911T230000
DTSTAMP:20260425T114620
CREATED:20210910T182102Z
LAST-MODIFIED:20210910T182102Z
UID:407-1631392200-1631401200@greenbeltastro.org
SUMMARY:Virtual Star Party
DESCRIPTION:We’ll be observing Summer Triangle objects and more\, possibly including the Moon\, Jupiter\, and Saturn if they are not obscured by houses or trees.  Chad Leader and Conrad Terrill will be doing the observing from their back yards\, and George Stallings might be able to join as well. All are welcome to join the Zoom session\, whether members of the Society or not.  The session will open around 8:15 PM EDT\, and the observers should have their telescopes polar-aligned and ready to go by around 8:30. \nZoom Meeting Details\nLink: https://us02web.zoom.us/j/83119300505?pwd=anpWdWtleHZkTDJDSUVONnd0dEZxdz09.\nMeeting ID: 831 1930 0505\nPasscode: 264574
URL:https://greenbeltastro.org/event/virtual-star-party-2/
LOCATION:Zoom
CATEGORIES:Star Parties
END:VEVENT
BEGIN:VEVENT
DTSTART;TZID=America/New_York:20210826T190000
DTEND;TZID=America/New_York:20210826T210000
DTSTAMP:20260425T114620
CREATED:20210822T194718Z
LAST-MODIFIED:20210822T194718Z
UID:351-1630004400-1630011600@greenbeltastro.org
SUMMARY:August Meeting: Dark Matters
DESCRIPTION:The Astronomical Society of Greenbelt will present material and lead a discussion on the topic of dark matter and related matters\, including dark energy\, cosmological structure\, relativistic and quantum mechanical considerations\, and the present state of physics regarding all this. Dark matter has been hypothesized by astrophysicists to account for galactic motions which cannot be accounted for with normal matter alone. A basic problem is that dark matter cannot be seen.\n  \nAll are welcome to join this Zoom event\, whether members of ASG or not. For those interested\, the Zoom session will open a half-hour early for meet-and-greet. The Zoom link is below.\n \nJoin the Zoom Meeting\nMeeting ID: 871 0873 0437\nPasscode: 514576
URL:https://greenbeltastro.org/event/august-meeting-dark-matters/
LOCATION:Zoom
CATEGORIES:Educational Events
END:VEVENT
BEGIN:VEVENT
DTSTART;VALUE=DATE:20210820
DTEND;VALUE=DATE:20210823
DTSTAMP:20260425T114620
CREATED:20210517T021820Z
LAST-MODIFIED:20230210T210749Z
UID:213-1629417600-1629676799@greenbeltastro.org
SUMMARY:Society of Amateur Radio Astronomers 2023 Eastern Conference
DESCRIPTION:The 2023 SARA Eastern Conference will be held at the Green Bank Observatory\, West Virginia\, Sunday through Tuesday\, August 20–22. 2023. Visit the Society of Amateur Radio Astronomer’s website for more details. \nPlease note that this event is not hosted by the Astronomical Society of Greenbelt. It is listed here as a courtesy to another club. Please consult the event website for the most up-to-date information.
URL:https://greenbeltastro.org/event/society-of-amateur-radio-astronomers-eastern-conference/
LOCATION:Green Bank Observatory\, 155 Observatory Road\, Green Bank\, WV\, 24944\, United States
CATEGORIES:Educational Events
END:VEVENT
BEGIN:VEVENT
DTSTART;VALUE=DATE:20210819
DTEND;VALUE=DATE:20210822
DTSTAMP:20260425T114620
CREATED:20210516T074354Z
LAST-MODIFIED:20210725T031730Z
UID:189-1629331200-1629590399@greenbeltastro.org
SUMMARY:Astronomical League 2021 Convention
DESCRIPTION:The 2021 Astronomical League Convention will be held virtually this year due to the COVID-19 pandemic. This year’s speakers include: \n\nDame Jocelyn Bell Burnell\, astrophysicist who discovered pulsars\nDr. Caitlin Ahrens\, Postdoctoral Fellow at NASA’s Goddard Space Flight Center\nDr. David Levy\, science writer and amateur astronomer\, who has discovered multiple comets and minor planets\nConal Richards\, founder and president of the Abingdon Heights High School Astronomy Club in Pennsylvania\nDavid Eicher\, editor-in-chief of Astronomy magazine
URL:https://greenbeltastro.org/event/2021-astronomical-league-convention/
CATEGORIES:Educational Events
END:VEVENT
BEGIN:VEVENT
DTSTART;TZID=America/New_York:20210810T193000
DTEND;TZID=America/New_York:20210810T203000
DTSTAMP:20260425T114620
CREATED:20210810T232412Z
LAST-MODIFIED:20211109T023232Z
UID:349-1628623800-1628627400@greenbeltastro.org
SUMMARY:Officers' Meeting
DESCRIPTION:
URL:https://greenbeltastro.org/event/officers-meeting-2/
LOCATION:Zoom
CATEGORIES:Officers Meeting
END:VEVENT
BEGIN:VEVENT
DTSTART;TZID=America/New_York:20210729T193000
DTEND;TZID=America/New_York:20210729T210000
DTSTAMP:20260425T114620
CREATED:20210725T025854Z
LAST-MODIFIED:20210725T030459Z
UID:328-1627587000-1627592400@greenbeltastro.org
SUMMARY:July Meeting: Astronomy Simulation Software
DESCRIPTION:ASG Vice President Anwar Al-Mallah will present the latest updates to the astronomy simulation software he has previously shown to the club. These programs will include Universe Sandbox\, Space Engine\, Stellarium\, and Microsoft Flight Simulator. \nNew features in Universe Sandbox include the ability to model climate and cloud cover more accurately. The graphics quality in Space Engine will show improvement since the last presentation\, now being rendered on the latest RTX 30 series GPU. Galaxy collision simulations have also been improved in Universe Sandbox\, and new historical simulations have been added. \nFlybys of new astronomical sites on Earth will be shown in Flight Simulator\, and a demonstration of Stellarium will be given. If time allows\, we will take a quick tour of the Google Sky client and the World Wide Telescope website. \nThe Zoom session will open at 7:00 pm for an informal chat. The presentation will start at 7:30 pm. \nZoom Info\nJoin the Zoom Meeting. \n\nMeeting ID: 895 8057 7207\nPasscode: 748946\nDial by your location\n\n(301) 715-8592 US (Washington\, DC)\n(646) 558-8656 US (New York)\n(312) 626-6799 US (Chicago)\n(669) 900-9128 US (San Jose)\n(253) 215-8782 US (Tacoma)\n(346) 248-7799 US (Houston)\n\n\nFind your local number
URL:https://greenbeltastro.org/event/july-meeting-astronomy-simulation-software/
LOCATION:Zoom
CATEGORIES:Educational Events
END:VEVENT
BEGIN:VEVENT
DTSTART;VALUE=DATE:20210728
DTEND;VALUE=DATE:20210730
DTSTAMP:20260425T114620
CREATED:20210517T021203Z
LAST-MODIFIED:20210517T021203Z
UID:211-1627430400-1627603199@greenbeltastro.org
SUMMARY:Alpha Capricornids
DESCRIPTION:The Alpha Capricornids are active from July 3–August 15 with a maximum centered on July 28. This shower is not very strong and rarely produces in excess of five shower members per hour. What is notable about this shower is the number of bright fireballs produced during its activity period. \nFor more information on meteor showers\, visit the American Meteor Society.
URL:https://greenbeltastro.org/event/alpha-capricornids/
CATEGORIES:Meteor Showers
END:VEVENT
BEGIN:VEVENT
DTSTART;TZID=America/New_York:20210624T193000
DTEND;TZID=America/New_York:20210624T210000
DTSTAMP:20260425T114620
CREATED:20210725T031626Z
LAST-MODIFIED:20210725T031626Z
UID:336-1624563000-1624568400@greenbeltastro.org
SUMMARY:June Meeting: Ancient Babylonian Astronomical Texts
DESCRIPTION:ASG member Kevin A. Wilson will present on ancient Babylonian astronomical texts. \nAstronomy began in ancient Mesopotamia\, and we have a rich record of star catalogues and planetary observations from Sumeria\, Babylon\, and Assyria. An overview of these texts will be provide\, followed by a more in-depth discussion of observations of Venus from the 17th century BCE. \nKevin A. Wilson earned his PhD in Northwest Semitic Philology and Old Testament/Hebrew Bible from The Johns Hopkins University. He also holds  Master of Divinity and Master of Sacred Theology degrees from Yale Divinity School. He has taught at colleges and seminaries in Virginia\, Tennessee\, Iowa\, and Massachusetts\, and spent three years as a professor in Lithuania. He has worked on archaeological excavations in Israel\, Egypt\, and Jordan. \nThe Zoom session will open at 7:00 pm for an informal chat. The presentation will start at 7:30 pm.
URL:https://greenbeltastro.org/event/june-meeting-ancient-babylonian-astronomical-texts/
LOCATION:Zoom
CATEGORIES:Educational Events
END:VEVENT
BEGIN:VEVENT
DTSTART;TZID=America/New_York:20210526T054500
DTEND;TZID=America/New_York:20210526T085200
DTSTAMP:20260425T114620
CREATED:20210517T014224Z
LAST-MODIFIED:20210517T014224Z
UID:209-1622007900-1622019120@greenbeltastro.org
SUMMARY:Lunar Eclipse
DESCRIPTION:A total lunar eclipse will take place on the morning of May 26. Unfortunately\, the moon will set for viewers in the eastern US before totality is reached. The farther west people are in the US\, the more of the eclipse they will be able to see\, with viewers on the West Coast being able to see the entire eclipse. \nEclipse Timetable\nAll times are in Eastern Daylight Time. \n\nPartial umbral eclipse begins: 5:45 am\nTotal eclipse begins: 7:11 am\nTotal eclipse ends: 7:26 am\nPartial umbral eclipse ends: 8:52 am
URL:https://greenbeltastro.org/event/lunar-eclipse/
CATEGORIES:Eclipses
END:VEVENT
BEGIN:VEVENT
DTSTART;TZID=America/New_York:20210517T193000
DTEND;TZID=America/New_York:20210517T210000
DTSTAMP:20260425T114620
CREATED:20210516T065837Z
LAST-MODIFIED:20210516T065837Z
UID:175-1621279800-1621285200@greenbeltastro.org
SUMMARY:Officers Meeting
DESCRIPTION:
URL:https://greenbeltastro.org/event/officers-meeting/
LOCATION:Zoom
CATEGORIES:Officers Meeting
END:VEVENT
BEGIN:VEVENT
DTSTART;VALUE=DATE:20210515
DTEND;VALUE=DATE:20210516
DTSTAMP:20260425T114620
CREATED:20210516T071939Z
LAST-MODIFIED:20210516T071939Z
UID:179-1621036800-1621123199@greenbeltastro.org
SUMMARY:Astronomy Day
DESCRIPTION:Astronomy Day is a biannual event held in the United States and other countries. It is intended to promote interest in astronomy and interaction between the general public and various astronomy enthusiasts\, groups\, and professionals. The day is observed in the spring and the fall.  Astronomy Day in the spring always falls on a Saturday between mid-April and mid-May and is scheduled so as to occur at or close to the first quarter moon.  Astronomy Day in the fall is near the first-quarter moon between mid-September and mid-October. \nDue to the COVID-19 pandemic\, the Astronomical Society of Greenbelt will not be hosting any public events this spring.
URL:https://greenbeltastro.org/event/astronomy-day/
CATEGORIES:Educational Events
END:VEVENT
BEGIN:VEVENT
DTSTART;VALUE=DATE:20210504
DTEND;VALUE=DATE:20210506
DTSTAMP:20260425T114620
CREATED:20210517T001717Z
LAST-MODIFIED:20210517T002220Z
UID:205-1620086400-1620259199@greenbeltastro.org
SUMMARY:Eta Aquariids
DESCRIPTION:The Eta Aquariids are a strong shower when viewed from the southern hemisphere. From the equator northward\, they usually only produce medium rates of 10–30 per hour just before dawn. Although the shower is active April 19–May 28\, activity is best around the peak on May 4–5. \nFor more information on meteor showers\, visit the American Meteor Society.
URL:https://greenbeltastro.org/event/eta-aquariids/
CATEGORIES:Meteor Showers
END:VEVENT
BEGIN:VEVENT
DTSTART;TZID=America/New_York:20210426T210000
DTEND;TZID=America/New_York:20210426T230000
DTSTAMP:20260425T114620
CREATED:20210426T031935Z
LAST-MODIFIED:20210426T033342Z
UID:93-1619470800-1619478000@greenbeltastro.org
SUMMARY:Virtual Star Party
DESCRIPTION:At this event\, we’ll be focusing mainly on Virgo Cluster galaxies\, as these are currently high in the sky. Chad Leader and Conrad Terrill will be doing the imaging from telescopes set up in their back yards. Conrad will be doing close-up imaging and Chad will handle wide-field views. All are welcome to join the Zoom session\, whether they are members of the Astronomical Society of Greenbelt or not.  The session will open around 8:45 PM EDT.  Chad and Conrad plan to be polar-aligned and ready to go around 9:00 PM EDT. \nZoom Information\nLink: https://us02web.zoom.us/j/84031946452?pwd=c3graTdiTVU1OXllVjBrbVV5UlBWUT09\nMeeting ID: 840 3194 6452\nPasscode: 539915\nOne-tap mobile\n\n+13017158592\,\,84031946452#\,\,\,\,*539915# US (Washington DC)\n+13126266799\,\,84031946452#\,\,\,\,*539915# US (Chicago)\n\nDial by your location\n\n+1 301 715 8592 US (Washington DC)\n+1 312 626 6799 US (Chicago)\n+1 646 558 8656 US (New York)\n+1 669 900 9128 US (San Jose)\n+1 253 215 8782 US (Tacoma)\n+1 346 248 7799 US (Houston)\nFind your local number
URL:https://greenbeltastro.org/event/virtual-star-party/
LOCATION:Zoom
CATEGORIES:Star Parties
END:VEVENT
BEGIN:VEVENT
DTSTART;VALUE=DATE:20210421
DTEND;VALUE=DATE:20210423
DTSTAMP:20260425T114620
CREATED:20210428T052454Z
LAST-MODIFIED:20210517T002302Z
UID:110-1618963200-1619135999@greenbeltastro.org
SUMMARY:Lyrids
DESCRIPTION:The Lyrids is a medium strength shower that usually produces good rates for three nights centered on the maximum. These meteors also usually lack persistent trains but can produce fireballs. They are best seen from the northern hemisphere where the radiant is high in the sky at dawn. Activity from this shower can be seen from the southern hemisphere\, but at a lower rate. \nThe Lyrids are active April 16–30\, 2021\, with their peak of activity coming on the night of April 21–22. \nFor more information on meteor showers\, visit the American Meteor Society.
URL:https://greenbeltastro.org/event/lyrids/
CATEGORIES:Meteor Showers
END:VEVENT
END:VCALENDAR