BEGIN:VCALENDAR
VERSION:2.0
PRODID:-//Astronomical Society of Greenbelt - ECPv6.15.3//NONSGML v1.0//EN
CALSCALE:GREGORIAN
METHOD:PUBLISH
X-ORIGINAL-URL:https://greenbeltastro.org
X-WR-CALDESC:Events for Astronomical Society of Greenbelt
REFRESH-INTERVAL;VALUE=DURATION:PT1H
X-Robots-Tag:noindex
X-PUBLISHED-TTL:PT1H
BEGIN:VTIMEZONE
TZID:America/New_York
BEGIN:DAYLIGHT
TZOFFSETFROM:-0500
TZOFFSETTO:-0400
TZNAME:EDT
DTSTART:20260308T070000
END:DAYLIGHT
BEGIN:STANDARD
TZOFFSETFROM:-0400
TZOFFSETTO:-0500
TZNAME:EST
DTSTART:20261101T060000
END:STANDARD
END:VTIMEZONE
BEGIN:VEVENT
DTSTART;TZID=America/New_York:20260509T210000
DTEND;TZID=America/New_York:20260509T230000
DTSTAMP:20260425T222153
CREATED:20260122T023806Z
LAST-MODIFIED:20260219T234807Z
UID:1882-1778360400-1778367600@greenbeltastro.org
SUMMARY:Star Party
DESCRIPTION:Weather permitting\, we will hold a star party at the Greenbelt Observatory. The observatory will be open to visitors to view the wonders of the heavens. People are also welcome to bring their own telescopes to set up for observation. \nThe event is open to members and non-members of all ages at no cost. We provide a fun\, family-friendly environment for learning about the universe. This is a great way to meet other astronomers in the community. And\, if you are new to the hobby\, members are always willing to help you learn how to use your telescope. \nOur star parties generally begin about an hour after sunset and run for two hours.  \nPlease note that star parties may be canceled without prior notice in the event of overcast skies or extremely inclement weather conditions. In addition\, the observatory is made of metal and has no heating or cooling system. Please be aware that the temperature inside will be roughly the same inside as it is outside\, although in summer it is sometimes hotter inside. Please dress accordingly. \nIn accordance with Prince George’s County guidelines\, masks are voluntary.
URL:https://greenbeltastro.org/event/2026-05-09/
LOCATION:City of Greenbelt Observatory\, 8101 Northway Road\, Greenbelt\, MD\, 20770\, United States
CATEGORIES:Educational Events,Star Parties
END:VEVENT
BEGIN:VEVENT
DTSTART;TZID=America/New_York:20260516T213000
DTEND;TZID=America/New_York:20260516T233000
DTSTAMP:20260425T222153
CREATED:20260122T023805Z
LAST-MODIFIED:20260219T234807Z
UID:1883-1778967000-1778974200@greenbeltastro.org
SUMMARY:Star Party
DESCRIPTION:Weather permitting\, we will hold a star party at the Greenbelt Observatory. The observatory will be open to visitors to view the wonders of the heavens. People are also welcome to bring their own telescopes to set up for observation. \nThe event is open to members and non-members of all ages at no cost. We provide a fun\, family-friendly environment for learning about the universe. This is a great way to meet other astronomers in the community. And\, if you are new to the hobby\, members are always willing to help you learn how to use your telescope. \nOur star parties generally begin about an hour after sunset and run for two hours.  \nPlease note that star parties may be canceled without prior notice in the event of overcast skies or extremely inclement weather conditions. In addition\, the observatory is made of metal and has no heating or cooling system. Please be aware that the temperature inside will be roughly the same inside as it is outside\, although in summer it is sometimes hotter inside. Please dress accordingly. \nIn accordance with Prince George’s County guidelines\, masks are voluntary.
URL:https://greenbeltastro.org/event/2026-05-16/
LOCATION:City of Greenbelt Observatory\, 8101 Northway Road\, Greenbelt\, MD\, 20770\, United States
CATEGORIES:Educational Events,Star Parties
END:VEVENT
BEGIN:VEVENT
DTSTART;TZID=America/New_York:20260606T213000
DTEND;TZID=America/New_York:20260606T233000
DTSTAMP:20260425T222153
CREATED:20260122T023804Z
LAST-MODIFIED:20260219T234807Z
UID:1884-1780781400-1780788600@greenbeltastro.org
SUMMARY:Star Party
DESCRIPTION:Weather permitting\, we will hold a star party at the Greenbelt Observatory. The observatory will be open to visitors to view the wonders of the heavens. People are also welcome to bring their own telescopes to set up for observation. \nThe event is open to members and non-members of all ages at no cost. We provide a fun\, family-friendly environment for learning about the universe. This is a great way to meet other astronomers in the community. And\, if you are new to the hobby\, members are always willing to help you learn how to use your telescope. \nOur star parties generally begin about an hour after sunset and run for two hours.  \nPlease note that star parties may be canceled without prior notice in the event of overcast skies or extremely inclement weather conditions. In addition\, the observatory is made of metal and has no heating or cooling system. Please be aware that the temperature inside will be roughly the same inside as it is outside\, although in summer it is sometimes hotter inside. Please dress accordingly. \nIn accordance with Prince George’s County guidelines\, masks are voluntary.
URL:https://greenbeltastro.org/event/2026-06-06/
LOCATION:City of Greenbelt Observatory\, 8101 Northway Road\, Greenbelt\, MD\, 20770\, United States
CATEGORIES:Educational Events,Star Parties
END:VEVENT
BEGIN:VEVENT
DTSTART;TZID=America/New_York:20260613T213000
DTEND;TZID=America/New_York:20260613T233000
DTSTAMP:20260425T222153
CREATED:20260122T023804Z
LAST-MODIFIED:20260219T234702Z
UID:1885-1781386200-1781393400@greenbeltastro.org
SUMMARY:Star Party
DESCRIPTION:Weather permitting\, we will hold a star party at the Greenbelt Observatory. The observatory will be open to visitors to view the wonders of the heavens. People are also welcome to bring their own telescopes to set up for observation. \nThe event is open to members and non-members of all ages at no cost. We provide a fun\, family-friendly environment for learning about the universe. This is a great way to meet other astronomers in the community. And\, if you are new to the hobby\, members are always willing to help you learn how to use your telescope. \nOur star parties generally begin about an hour after sunset and run for two hours.  \nPlease note that star parties may be canceled without prior notice in the event of overcast skies or extremely inclement weather conditions. In addition\, the observatory is made of metal and has no heating or cooling system. Please be aware that the temperature inside will be roughly the same inside as it is outside\, although in summer it is sometimes hotter inside. Please dress accordingly. \nIn accordance with Prince George’s County guidelines\, masks are voluntary.
URL:https://greenbeltastro.org/event/2026-06-13/
LOCATION:City of Greenbelt Observatory\, 8101 Northway Road\, Greenbelt\, MD\, 20770\, United States
CATEGORIES:Star Parties
END:VEVENT
BEGIN:VEVENT
DTSTART;TZID=America/New_York:20260711T213000
DTEND;TZID=America/New_York:20260711T233000
DTSTAMP:20260425T222153
CREATED:20260122T023803Z
LAST-MODIFIED:20260219T234701Z
UID:1886-1783805400-1783812600@greenbeltastro.org
SUMMARY:Star Party
DESCRIPTION:Weather permitting\, we will hold a star party at the Greenbelt Observatory. The observatory will be open to visitors to view the wonders of the heavens. People are also welcome to bring their own telescopes to set up for observation. \nThe event is open to members and non-members of all ages at no cost. We provide a fun\, family-friendly environment for learning about the universe. This is a great way to meet other astronomers in the community. And\, if you are new to the hobby\, members are always willing to help you learn how to use your telescope. \nOur star parties generally begin about an hour after sunset and run for two hours.  \nPlease note that star parties may be canceled without prior notice in the event of overcast skies or extremely inclement weather conditions. In addition\, the observatory is made of metal and has no heating or cooling system. Please be aware that the temperature inside will be roughly the same inside as it is outside\, although in summer it is sometimes hotter inside. Please dress accordingly. \nIn accordance with Prince George’s County guidelines\, masks are voluntary.
URL:https://greenbeltastro.org/event/2026-07-11/
LOCATION:City of Greenbelt Observatory\, 8101 Northway Road\, Greenbelt\, MD\, 20770\, United States
CATEGORIES:Star Parties
END:VEVENT
BEGIN:VEVENT
DTSTART;TZID=America/New_York:20260808T210000
DTEND;TZID=America/New_York:20260808T230000
DTSTAMP:20260425T222153
CREATED:20260122T023803Z
LAST-MODIFIED:20260219T234701Z
UID:1887-1786222800-1786230000@greenbeltastro.org
SUMMARY:Star Party
DESCRIPTION:Weather permitting\, we will hold a star party at the Greenbelt Observatory. The observatory will be open to visitors to view the wonders of the heavens. People are also welcome to bring their own telescopes to set up for observation. \nThe event is open to members and non-members of all ages at no cost. We provide a fun\, family-friendly environment for learning about the universe. This is a great way to meet other astronomers in the community. And\, if you are new to the hobby\, members are always willing to help you learn how to use your telescope. \nOur star parties generally begin about an hour after sunset and run for two hours.  \nPlease note that star parties may be canceled without prior notice in the event of overcast skies or extremely inclement weather conditions. In addition\, the observatory is made of metal and has no heating or cooling system. Please be aware that the temperature inside will be roughly the same inside as it is outside\, although in summer it is sometimes hotter inside. Please dress accordingly. \nIn accordance with Prince George’s County guidelines\, masks are voluntary.
URL:https://greenbeltastro.org/event/2026-08-08/
LOCATION:City of Greenbelt Observatory\, 8101 Northway Road\, Greenbelt\, MD\, 20770\, United States
CATEGORIES:Star Parties
END:VEVENT
BEGIN:VEVENT
DTSTART;TZID=America/New_York:20260815T210000
DTEND;TZID=America/New_York:20260815T230000
DTSTAMP:20260425T222153
CREATED:20260122T023802Z
LAST-MODIFIED:20260219T234700Z
UID:1888-1786827600-1786834800@greenbeltastro.org
SUMMARY:Star Party
DESCRIPTION:Weather permitting\, we will hold a star party at the Greenbelt Observatory. The observatory will be open to visitors to view the wonders of the heavens. People are also welcome to bring their own telescopes to set up for observation. \nThe event is open to members and non-members of all ages at no cost. We provide a fun\, family-friendly environment for learning about the universe. This is a great way to meet other astronomers in the community. And\, if you are new to the hobby\, members are always willing to help you learn how to use your telescope. \nOur star parties generally begin about an hour after sunset and run for two hours.  \nPlease note that star parties may be canceled without prior notice in the event of overcast skies or extremely inclement weather conditions. In addition\, the observatory is made of metal and has no heating or cooling system. Please be aware that the temperature inside will be roughly the same inside as it is outside\, although in summer it is sometimes hotter inside. Please dress accordingly. \nIn accordance with Prince George’s County guidelines\, masks are voluntary.
URL:https://greenbeltastro.org/event/2026-08-15/
LOCATION:City of Greenbelt Observatory\, 8101 Northway Road\, Greenbelt\, MD\, 20770\, United States
CATEGORIES:Star Parties
END:VEVENT
BEGIN:VEVENT
DTSTART;TZID=America/New_York:20260905T203000
DTEND;TZID=America/New_York:20260905T223000
DTSTAMP:20260425T222153
CREATED:20260122T023802Z
LAST-MODIFIED:20260219T234700Z
UID:1889-1788640200-1788647400@greenbeltastro.org
SUMMARY:Star Party
DESCRIPTION:Weather permitting\, we will hold a star party at the Greenbelt Observatory. The observatory will be open to visitors to view the wonders of the heavens. People are also welcome to bring their own telescopes to set up for observation. \nThe event is open to members and non-members of all ages at no cost. We provide a fun\, family-friendly environment for learning about the universe. This is a great way to meet other astronomers in the community. And\, if you are new to the hobby\, members are always willing to help you learn how to use your telescope. \nOur star parties generally begin about an hour after sunset and run for two hours.  \nPlease note that star parties may be canceled without prior notice in the event of overcast skies or extremely inclement weather conditions. In addition\, the observatory is made of metal and has no heating or cooling system. Please be aware that the temperature inside will be roughly the same inside as it is outside\, although in summer it is sometimes hotter inside. Please dress accordingly. \nIn accordance with Prince George’s County guidelines\, masks are voluntary.
URL:https://greenbeltastro.org/event/2026-09-05/
LOCATION:City of Greenbelt Observatory\, 8101 Northway Road\, Greenbelt\, MD\, 20770\, United States
CATEGORIES:Star Parties
END:VEVENT
BEGIN:VEVENT
DTSTART;TZID=America/New_York:20260912T203000
DTEND;TZID=America/New_York:20260912T223000
DTSTAMP:20260425T222153
CREATED:20260122T023801Z
LAST-MODIFIED:20260219T234659Z
UID:1891-1789245000-1789252200@greenbeltastro.org
SUMMARY:Star Party
DESCRIPTION:Weather permitting\, we will hold a star party at the Greenbelt Observatory. The observatory will be open to visitors to view the wonders of the heavens. People are also welcome to bring their own telescopes to set up for observation. \nThe event is open to members and non-members of all ages at no cost. We provide a fun\, family-friendly environment for learning about the universe. This is a great way to meet other astronomers in the community. And\, if you are new to the hobby\, members are always willing to help you learn how to use your telescope. \nOur star parties generally begin about an hour after sunset and run for two hours.  \nPlease note that star parties may be canceled without prior notice in the event of overcast skies or extremely inclement weather conditions. In addition\, the observatory is made of metal and has no heating or cooling system. Please be aware that the temperature inside will be roughly the same inside as it is outside\, although in summer it is sometimes hotter inside. Please dress accordingly. \nIn accordance with Prince George’s County guidelines\, masks are voluntary.
URL:https://greenbeltastro.org/event/2026-09-12/
LOCATION:City of Greenbelt Observatory\, 8101 Northway Road\, Greenbelt\, MD\, 20770\, United States
CATEGORIES:Star Parties
END:VEVENT
BEGIN:VEVENT
DTSTART;TZID=America/New_York:20260919T200000
DTEND;TZID=America/New_York:20260919T220000
DTSTAMP:20260425T222153
CREATED:20260122T023801Z
LAST-MODIFIED:20260219T234658Z
UID:1892-1789848000-1789855200@greenbeltastro.org
SUMMARY:Star Party
DESCRIPTION:Weather permitting\, we will hold a star party at the Greenbelt Observatory. The observatory will be open to visitors to view the wonders of the heavens. People are also welcome to bring their own telescopes to set up for observation. \nThe event is open to members and non-members of all ages at no cost. We provide a fun\, family-friendly environment for learning about the universe. This is a great way to meet other astronomers in the community. And\, if you are new to the hobby\, members are always willing to help you learn how to use your telescope. \nOur star parties generally begin about an hour after sunset and run for two hours.  \nPlease note that star parties may be canceled without prior notice in the event of overcast skies or extremely inclement weather conditions. In addition\, the observatory is made of metal and has no heating or cooling system. Please be aware that the temperature inside will be roughly the same inside as it is outside\, although in summer it is sometimes hotter inside. Please dress accordingly. \nIn accordance with Prince George’s County guidelines\, masks are voluntary.
URL:https://greenbeltastro.org/event/2026-09-19/
LOCATION:City of Greenbelt Observatory\, 8101 Northway Road\, Greenbelt\, MD\, 20770\, United States
CATEGORIES:Star Parties
END:VEVENT
BEGIN:VEVENT
DTSTART;TZID=America/New_York:20261003T200000
DTEND;TZID=America/New_York:20261003T220000
DTSTAMP:20260425T222153
CREATED:20260122T023800Z
LAST-MODIFIED:20260219T234658Z
UID:1893-1791057600-1791064800@greenbeltastro.org
SUMMARY:Star Party
DESCRIPTION:Weather permitting\, we will hold a star party at the Greenbelt Observatory. The observatory will be open to visitors to view the wonders of the heavens. People are also welcome to bring their own telescopes to set up for observation. \nThe event is open to members and non-members of all ages at no cost. We provide a fun\, family-friendly environment for learning about the universe. This is a great way to meet other astronomers in the community. And\, if you are new to the hobby\, members are always willing to help you learn how to use your telescope. \nOur star parties generally begin about an hour after sunset and run for two hours.  \nPlease note that star parties may be canceled without prior notice in the event of overcast skies or extremely inclement weather conditions. In addition\, the observatory is made of metal and has no heating or cooling system. Please be aware that the temperature inside will be roughly the same inside as it is outside\, although in summer it is sometimes hotter inside. Please dress accordingly. \nIn accordance with Prince George’s County guidelines\, masks are voluntary.
URL:https://greenbeltastro.org/event/2026-10-03/
LOCATION:City of Greenbelt Observatory\, 8101 Northway Road\, Greenbelt\, MD\, 20770\, United States
CATEGORIES:Star Parties
END:VEVENT
BEGIN:VEVENT
DTSTART;TZID=America/New_York:20261010T193000
DTEND;TZID=America/New_York:20261010T213000
DTSTAMP:20260425T222153
CREATED:20260122T023759Z
LAST-MODIFIED:20260219T234657Z
UID:1894-1791660600-1791667800@greenbeltastro.org
SUMMARY:Star Party
DESCRIPTION:Weather permitting\, we will hold a star party at the Greenbelt Observatory. The observatory will be open to visitors to view the wonders of the heavens. People are also welcome to bring their own telescopes to set up for observation. \nThe event is open to members and non-members of all ages at no cost. We provide a fun\, family-friendly environment for learning about the universe. This is a great way to meet other astronomers in the community. And\, if you are new to the hobby\, members are always willing to help you learn how to use your telescope. \nOur star parties generally begin about an hour after sunset and run for two hours.  \nPlease note that star parties may be canceled without prior notice in the event of overcast skies or extremely inclement weather conditions. In addition\, the observatory is made of metal and has no heating or cooling system. Please be aware that the temperature inside will be roughly the same inside as it is outside\, although in summer it is sometimes hotter inside. Please dress accordingly. \nIn accordance with Prince George’s County guidelines\, masks are voluntary.
URL:https://greenbeltastro.org/event/2026-10-10/
LOCATION:City of Greenbelt Observatory\, 8101 Northway Road\, Greenbelt\, MD\, 20770\, United States
CATEGORIES:Star Parties
END:VEVENT
BEGIN:VEVENT
DTSTART;TZID=America/New_York:20261017T193000
DTEND;TZID=America/New_York:20261017T213000
DTSTAMP:20260425T222153
CREATED:20260122T023759Z
LAST-MODIFIED:20260219T234656Z
UID:1895-1792265400-1792272600@greenbeltastro.org
SUMMARY:Star Party
DESCRIPTION:Weather permitting\, we will hold a star party at the Greenbelt Observatory. The observatory will be open to visitors to view the wonders of the heavens. People are also welcome to bring their own telescopes to set up for observation. \nThe event is open to members and non-members of all ages at no cost. We provide a fun\, family-friendly environment for learning about the universe. This is a great way to meet other astronomers in the community. And\, if you are new to the hobby\, members are always willing to help you learn how to use your telescope. \nOur star parties generally begin about an hour after sunset and run for two hours.  \nPlease note that star parties may be canceled without prior notice in the event of overcast skies or extremely inclement weather conditions. In addition\, the observatory is made of metal and has no heating or cooling system. Please be aware that the temperature inside will be roughly the same inside as it is outside\, although in summer it is sometimes hotter inside. Please dress accordingly. \nIn accordance with Prince George’s County guidelines\, masks are voluntary.
URL:https://greenbeltastro.org/event/2026-10-17/
LOCATION:City of Greenbelt Observatory\, 8101 Northway Road\, Greenbelt\, MD\, 20770\, United States
CATEGORIES:Star Parties
END:VEVENT
BEGIN:VEVENT
DTSTART;TZID=America/New_York:20261107T180000
DTEND;TZID=America/New_York:20261107T200000
DTSTAMP:20260425T222153
CREATED:20260122T023758Z
LAST-MODIFIED:20260219T234655Z
UID:1896-1794074400-1794081600@greenbeltastro.org
SUMMARY:Star Party
DESCRIPTION:Weather permitting\, we will hold a star party at the Greenbelt Observatory. The observatory will be open to visitors to view the wonders of the heavens. People are also welcome to bring their own telescopes to set up for observation. \nThe event is open to members and non-members of all ages at no cost. We provide a fun\, family-friendly environment for learning about the universe. This is a great way to meet other astronomers in the community. And\, if you are new to the hobby\, members are always willing to help you learn how to use your telescope. \nOur star parties generally begin about an hour after sunset and run for two hours.  \nPlease note that star parties may be canceled without prior notice in the event of overcast skies or extremely inclement weather conditions. In addition\, the observatory is made of metal and has no heating or cooling system. Please be aware that the temperature inside will be roughly the same inside as it is outside\, although in summer it is sometimes hotter inside. Please dress accordingly. \nIn accordance with Prince George’s County guidelines\, masks are voluntary.
URL:https://greenbeltastro.org/event/2026-11-07/
LOCATION:City of Greenbelt Observatory\, 8101 Northway Road\, Greenbelt\, MD\, 20770\, United States
CATEGORIES:Star Parties
END:VEVENT
BEGIN:VEVENT
DTSTART;TZID=America/New_York:20261128T180000
DTEND;TZID=America/New_York:20261128T200000
DTSTAMP:20260425T222153
CREATED:20260122T023757Z
LAST-MODIFIED:20260219T234655Z
UID:1897-1795888800-1795896000@greenbeltastro.org
SUMMARY:Star Party
DESCRIPTION:Weather permitting\, we will hold a star party at the Greenbelt Observatory. The observatory will be open to visitors to view the wonders of the heavens. People are also welcome to bring their own telescopes to set up for observation. \nThe event is open to members and non-members of all ages at no cost. We provide a fun\, family-friendly environment for learning about the universe. This is a great way to meet other astronomers in the community. And\, if you are new to the hobby\, members are always willing to help you learn how to use your telescope. \nOur star parties generally begin about an hour after sunset and run for two hours.  \nPlease note that star parties may be canceled without prior notice in the event of overcast skies or extremely inclement weather conditions. In addition\, the observatory is made of metal and has no heating or cooling system. Please be aware that the temperature inside will be roughly the same inside as it is outside\, although in summer it is sometimes hotter inside. Please dress accordingly. \nIn accordance with Prince George’s County guidelines\, masks are voluntary.
URL:https://greenbeltastro.org/event/2026-11-28/
LOCATION:City of Greenbelt Observatory\, 8101 Northway Road\, Greenbelt\, MD\, 20770\, United States
CATEGORIES:Star Parties
END:VEVENT
BEGIN:VEVENT
DTSTART;TZID=America/New_York:20261205T180000
DTEND;TZID=America/New_York:20261205T200000
DTSTAMP:20260425T222153
CREATED:20260122T023756Z
LAST-MODIFIED:20260219T234653Z
UID:1898-1796493600-1796500800@greenbeltastro.org
SUMMARY:Star Party
DESCRIPTION:Weather permitting\, we will hold a star party at the Greenbelt Observatory. The observatory will be open to visitors to view the wonders of the heavens. People are also welcome to bring their own telescopes to set up for observation. \nThe event is open to members and non-members of all ages at no cost. We provide a fun\, family-friendly environment for learning about the universe. This is a great way to meet other astronomers in the community. And\, if you are new to the hobby\, members are always willing to help you learn how to use your telescope. \nOur star parties generally begin about an hour after sunset and run for two hours.  \nPlease note that star parties may be canceled without prior notice in the event of overcast skies or extremely inclement weather conditions. In addition\, the observatory is made of metal and has no heating or cooling system. Please be aware that the temperature inside will be roughly the same inside as it is outside\, although in summer it is sometimes hotter inside. Please dress accordingly. \nIn accordance with Prince George’s County guidelines\, masks are voluntary.
URL:https://greenbeltastro.org/event/2026-12-05/
LOCATION:City of Greenbelt Observatory\, 8101 Northway Road\, Greenbelt\, MD\, 20770\, United States
CATEGORIES:Star Parties
END:VEVENT
END:VCALENDAR