BEGIN:VCALENDAR
VERSION:2.0
PRODID:-//Astronomical Society of Greenbelt - ECPv6.15.3//NONSGML v1.0//EN
CALSCALE:GREGORIAN
METHOD:PUBLISH
X-WR-CALNAME:Astronomical Society of Greenbelt
X-ORIGINAL-URL:https://greenbeltastro.org
X-WR-CALDESC:Events for Astronomical Society of Greenbelt
REFRESH-INTERVAL;VALUE=DURATION:PT1H
X-Robots-Tag:noindex
X-PUBLISHED-TTL:PT1H
BEGIN:VTIMEZONE
TZID:America/New_York
BEGIN:DAYLIGHT
TZOFFSETFROM:-0500
TZOFFSETTO:-0400
TZNAME:EDT
DTSTART:20210314T070000
END:DAYLIGHT
BEGIN:STANDARD
TZOFFSETFROM:-0400
TZOFFSETTO:-0500
TZNAME:EST
DTSTART:20211107T060000
END:STANDARD
BEGIN:DAYLIGHT
TZOFFSETFROM:-0500
TZOFFSETTO:-0400
TZNAME:EDT
DTSTART:20220313T070000
END:DAYLIGHT
BEGIN:STANDARD
TZOFFSETFROM:-0400
TZOFFSETTO:-0500
TZNAME:EST
DTSTART:20221106T060000
END:STANDARD
BEGIN:DAYLIGHT
TZOFFSETFROM:-0500
TZOFFSETTO:-0400
TZNAME:EDT
DTSTART:20230312T070000
END:DAYLIGHT
BEGIN:STANDARD
TZOFFSETFROM:-0400
TZOFFSETTO:-0500
TZNAME:EST
DTSTART:20231105T060000
END:STANDARD
BEGIN:DAYLIGHT
TZOFFSETFROM:-0500
TZOFFSETTO:-0400
TZNAME:EDT
DTSTART:20240310T070000
END:DAYLIGHT
BEGIN:STANDARD
TZOFFSETFROM:-0400
TZOFFSETTO:-0500
TZNAME:EST
DTSTART:20241103T060000
END:STANDARD
BEGIN:DAYLIGHT
TZOFFSETFROM:-0500
TZOFFSETTO:-0400
TZNAME:EDT
DTSTART:20250309T070000
END:DAYLIGHT
BEGIN:STANDARD
TZOFFSETFROM:-0400
TZOFFSETTO:-0500
TZNAME:EST
DTSTART:20251102T060000
END:STANDARD
END:VTIMEZONE
BEGIN:VEVENT
DTSTART;TZID=America/New_York:20250401T193000
DTEND;TZID=America/New_York:20250401T203000
DTSTAMP:20260424T071140
CREATED:20250401T152258Z
LAST-MODIFIED:20250401T152258Z
UID:1749-1743535800-1743539400@greenbeltastro.org
SUMMARY:Officers' Meeting
DESCRIPTION:The Astronomical Society of Greenbelt will be holding our business meeting at 7:30 PM on Monday\, April 7\, over Zoom. All members are welcome to participate.\n \nThe agenda will be:\n\nOfficer vacancies\nObservatory status\nSpeakers for monthly meetings\n\nZoom Information\n\n\n\n\n\n\nLink: https://us02web.zoom.us/j/82487265304?pwd=Er2jcKfbaODa3eNEXs9bMadaob84Lq.1\nMeeting ID: 824 8726 5304\nPasscode: 640281
URL:https://greenbeltastro.org/event/officers-meeting-21/
LOCATION:Zoom
CATEGORIES:Officers Meeting
END:VEVENT
BEGIN:VEVENT
DTSTART;TZID=America/New_York:20241209T193000
DTEND;TZID=America/New_York:20241209T203000
DTSTAMP:20260424T071140
CREATED:20241216T025708Z
LAST-MODIFIED:20241216T025708Z
UID:1672-1733772600-1733776200@greenbeltastro.org
SUMMARY:Officers' Meeting
DESCRIPTION:The officers of the Astronomical Society of Greenbelt meet each month to plan the club’s activities\, including upcoming speakers. If you have a suggestion for an activity or a speaker\, please contact them ahead of the meeting.
URL:https://greenbeltastro.org/event/officers-meeting-20/
LOCATION:Zoom
CATEGORIES:Officers Meeting
END:VEVENT
BEGIN:VEVENT
DTSTART;TZID=America/New_York:20240513T193000
DTEND;TZID=America/New_York:20240513T203000
DTSTAMP:20260424T071140
CREATED:20240513T235257Z
LAST-MODIFIED:20240513T235257Z
UID:1588-1715628600-1715632200@greenbeltastro.org
SUMMARY:Officers' Meeting
DESCRIPTION:
URL:https://greenbeltastro.org/event/officers-meeting-19/
CATEGORIES:Officers Meeting
END:VEVENT
BEGIN:VEVENT
DTSTART;TZID=America/New_York:20231211T193000
DTEND;TZID=America/New_York:20231211T203000
DTSTAMP:20260424T071140
CREATED:20231206T205930Z
LAST-MODIFIED:20231206T210422Z
UID:1499-1702323000-1702326600@greenbeltastro.org
SUMMARY:Officers Meeting
DESCRIPTION:
URL:https://greenbeltastro.org/event/officers-meeting-18/
CATEGORIES:Officers Meeting
END:VEVENT
BEGIN:VEVENT
DTSTART;TZID=America/New_York:20231107T193000
DTEND;TZID=America/New_York:20231107T203000
DTSTAMP:20260424T071140
CREATED:20231113T163713Z
LAST-MODIFIED:20231113T163713Z
UID:1487-1699385400-1699389000@greenbeltastro.org
SUMMARY:Officers Meeting
DESCRIPTION:
URL:https://greenbeltastro.org/event/officers-meeting-17/
CATEGORIES:Officers Meeting
END:VEVENT
BEGIN:VEVENT
DTSTART;TZID=America/New_York:20230911T193000
DTEND;TZID=America/New_York:20230911T203000
DTSTAMP:20260424T071140
CREATED:20230911T144138Z
LAST-MODIFIED:20230911T144138Z
UID:1451-1694460600-1694464200@greenbeltastro.org
SUMMARY:Officers' Meeting
DESCRIPTION:
URL:https://greenbeltastro.org/event/officers-meeting-16/
LOCATION:Zoom
CATEGORIES:Officers Meeting
END:VEVENT
BEGIN:VEVENT
DTSTART;TZID=America/New_York:20230711T193000
DTEND;TZID=America/New_York:20230711T203000
DTSTAMP:20260424T071140
CREATED:20230710T135053Z
LAST-MODIFIED:20230710T135053Z
UID:1420-1689103800-1689107400@greenbeltastro.org
SUMMARY:Officers' Meeting
DESCRIPTION:
URL:https://greenbeltastro.org/event/officers-meeting-15/
LOCATION:Zoom
CATEGORIES:Officers Meeting
END:VEVENT
BEGIN:VEVENT
DTSTART;TZID=America/New_York:20230605T193000
DTEND;TZID=America/New_York:20230605T203000
DTSTAMP:20260424T071140
CREATED:20230605T151846Z
LAST-MODIFIED:20230605T151846Z
UID:1408-1685993400-1685997000@greenbeltastro.org
SUMMARY:Officers' Meeting
DESCRIPTION:
URL:https://greenbeltastro.org/event/officers-meeting-14/
LOCATION:Zoom
CATEGORIES:Officers Meeting
END:VEVENT
BEGIN:VEVENT
DTSTART;TZID=America/New_York:20230206T073000
DTEND;TZID=America/New_York:20230206T203000
DTSTAMP:20260424T071140
CREATED:20230206T204444Z
LAST-MODIFIED:20230206T204444Z
UID:1207-1675668600-1675715400@greenbeltastro.org
SUMMARY:Officers' Meeting
DESCRIPTION:
URL:https://greenbeltastro.org/event/officers-meeting-13/
LOCATION:Zoom
CATEGORIES:Officers Meeting
END:VEVENT
BEGIN:VEVENT
DTSTART;TZID=America/New_York:20230123T193000
DTEND;TZID=America/New_York:20230123T203000
DTSTAMP:20260424T071140
CREATED:20230123T205523Z
LAST-MODIFIED:20230123T205523Z
UID:1195-1674502200-1674505800@greenbeltastro.org
SUMMARY:Officers' Meeting
DESCRIPTION:
URL:https://greenbeltastro.org/event/officers-meeting-12/
LOCATION:Zoom
CATEGORIES:Officers Meeting
END:VEVENT
BEGIN:VEVENT
DTSTART;TZID=America/New_York:20221212T193000
DTEND;TZID=America/New_York:20221212T203000
DTSTAMP:20260424T071140
CREATED:20221212T180722Z
LAST-MODIFIED:20221212T180722Z
UID:1120-1670873400-1670877000@greenbeltastro.org
SUMMARY:Officers' Meeting
DESCRIPTION:
URL:https://greenbeltastro.org/event/officers-meeting-11/
CATEGORIES:Officers Meeting
END:VEVENT
BEGIN:VEVENT
DTSTART;TZID=America/New_York:20221010T193000
DTEND;TZID=America/New_York:20221010T210000
DTSTAMP:20260424T071140
CREATED:20221010T045943Z
LAST-MODIFIED:20221010T045943Z
UID:1090-1665430200-1665435600@greenbeltastro.org
SUMMARY:Officers' Meeting
DESCRIPTION:
URL:https://greenbeltastro.org/event/officers-meeting-10/
LOCATION:Zoom
CATEGORIES:Officers Meeting
END:VEVENT
BEGIN:VEVENT
DTSTART;TZID=America/New_York:20220912T193000
DTEND;TZID=America/New_York:20220912T210000
DTSTAMP:20260424T071140
CREATED:20220912T231701Z
LAST-MODIFIED:20220912T231701Z
UID:1078-1663011000-1663016400@greenbeltastro.org
SUMMARY:Officers Meeting
DESCRIPTION:
URL:https://greenbeltastro.org/event/officers-meeting-9/
LOCATION:Zoom
CATEGORIES:Officers Meeting
END:VEVENT
BEGIN:VEVENT
DTSTART;TZID=America/New_York:20220711T193000
DTEND;TZID=America/New_York:20220711T203000
DTSTAMP:20260424T071140
CREATED:20220607T005117Z
LAST-MODIFIED:20220607T005117Z
UID:603-1657567800-1657571400@greenbeltastro.org
SUMMARY:Officers Meeting
DESCRIPTION:
URL:https://greenbeltastro.org/event/officers-meeting-8/
CATEGORIES:Officers Meeting
END:VEVENT
BEGIN:VEVENT
DTSTART;TZID=America/New_York:20220314T193000
DTEND;TZID=America/New_York:20220314T210000
DTSTAMP:20260424T071140
CREATED:20220302T153022Z
LAST-MODIFIED:20220302T153022Z
UID:548-1647286200-1647291600@greenbeltastro.org
SUMMARY:Officers' Meeting
DESCRIPTION:
URL:https://greenbeltastro.org/event/officers-meeting-7/
LOCATION:Zoom
CATEGORIES:Officers Meeting
END:VEVENT
BEGIN:VEVENT
DTSTART;TZID=America/New_York:20220207T193000
DTEND;TZID=America/New_York:20220207T203000
DTSTAMP:20260424T071140
CREATED:20220205T195804Z
LAST-MODIFIED:20220205T195804Z
UID:513-1644262200-1644265800@greenbeltastro.org
SUMMARY:Officers Meeting
DESCRIPTION:
URL:https://greenbeltastro.org/event/officers-meeting-6/
LOCATION:Zoom
CATEGORIES:Officers Meeting
END:VEVENT
BEGIN:VEVENT
DTSTART;TZID=America/New_York:20220110T193000
DTEND;TZID=America/New_York:20220110T210000
DTSTAMP:20260424T071140
CREATED:20220106T031233Z
LAST-MODIFIED:20220106T031233Z
UID:494-1641843000-1641848400@greenbeltastro.org
SUMMARY:Officers' Meeting
DESCRIPTION:Our officers’ meeting for this month will be on Monday\, January 10\, at 7:30 pm.
URL:https://greenbeltastro.org/event/officers-meeting-5/
LOCATION:Zoom
CATEGORIES:Officers Meeting
END:VEVENT
BEGIN:VEVENT
DTSTART;TZID=America/New_York:20211116T193000
DTEND;TZID=America/New_York:20211116T203000
DTSTAMP:20260424T071140
CREATED:20211109T023116Z
LAST-MODIFIED:20211109T023116Z
UID:478-1637091000-1637094600@greenbeltastro.org
SUMMARY:Officers' Meeting
DESCRIPTION:
URL:https://greenbeltastro.org/event/officers-meeting-4/
LOCATION:Zoom
CATEGORIES:Officers Meeting
END:VEVENT
BEGIN:VEVENT
DTSTART;TZID=America/New_York:20210913T193000
DTEND;TZID=America/New_York:20210913T210000
DTSTAMP:20260424T071140
CREATED:20210908T194735Z
LAST-MODIFIED:20211109T023215Z
UID:397-1631561400-1631566800@greenbeltastro.org
SUMMARY:Officers' Meeting
DESCRIPTION:
URL:https://greenbeltastro.org/event/officers-meeting-3/
LOCATION:Zoom
CATEGORIES:Officers Meeting
END:VEVENT
BEGIN:VEVENT
DTSTART;TZID=America/New_York:20210810T193000
DTEND;TZID=America/New_York:20210810T203000
DTSTAMP:20260424T071140
CREATED:20210810T232412Z
LAST-MODIFIED:20211109T023232Z
UID:349-1628623800-1628627400@greenbeltastro.org
SUMMARY:Officers' Meeting
DESCRIPTION:
URL:https://greenbeltastro.org/event/officers-meeting-2/
LOCATION:Zoom
CATEGORIES:Officers Meeting
END:VEVENT
BEGIN:VEVENT
DTSTART;TZID=America/New_York:20210517T193000
DTEND;TZID=America/New_York:20210517T210000
DTSTAMP:20260424T071140
CREATED:20210516T065837Z
LAST-MODIFIED:20210516T065837Z
UID:175-1621279800-1621285200@greenbeltastro.org
SUMMARY:Officers Meeting
DESCRIPTION:
URL:https://greenbeltastro.org/event/officers-meeting/
LOCATION:Zoom
CATEGORIES:Officers Meeting
END:VEVENT
END:VCALENDAR