BEGIN:VCALENDAR
VERSION:2.0
PRODID:-//Astronomical Society of Greenbelt - ECPv6.15.3//NONSGML v1.0//EN
CALSCALE:GREGORIAN
METHOD:PUBLISH
X-ORIGINAL-URL:https://greenbeltastro.org
X-WR-CALDESC:Events for Astronomical Society of Greenbelt
REFRESH-INTERVAL;VALUE=DURATION:PT1H
X-Robots-Tag:noindex
X-PUBLISHED-TTL:PT1H
BEGIN:VTIMEZONE
TZID:America/New_York
BEGIN:DAYLIGHT
TZOFFSETFROM:-0500
TZOFFSETTO:-0400
TZNAME:EDT
DTSTART:20230312T070000
END:DAYLIGHT
BEGIN:STANDARD
TZOFFSETFROM:-0400
TZOFFSETTO:-0500
TZNAME:EST
DTSTART:20231105T060000
END:STANDARD
END:VTIMEZONE
BEGIN:VEVENT
DTSTART;TZID=America/New_York:20231211T193000
DTEND;TZID=America/New_York:20231211T203000
DTSTAMP:20260425T222846
CREATED:20231206T205930Z
LAST-MODIFIED:20231206T210422Z
UID:1499-1702323000-1702326600@greenbeltastro.org
SUMMARY:Officers Meeting
DESCRIPTION:
URL:https://greenbeltastro.org/event/officers-meeting-18/
CATEGORIES:Officers Meeting
END:VEVENT
END:VCALENDAR