BEGIN:VCALENDAR
VERSION:2.0
PRODID:-//Astronomical Society of Greenbelt - ECPv6.15.3//NONSGML v1.0//EN
CALSCALE:GREGORIAN
METHOD:PUBLISH
X-WR-CALNAME:Astronomical Society of Greenbelt
X-ORIGINAL-URL:https://greenbeltastro.org
X-WR-CALDESC:Events for Astronomical Society of Greenbelt
REFRESH-INTERVAL;VALUE=DURATION:PT1H
X-Robots-Tag:noindex
X-PUBLISHED-TTL:PT1H
BEGIN:VTIMEZONE
TZID:America/New_York
BEGIN:DAYLIGHT
TZOFFSETFROM:-0500
TZOFFSETTO:-0400
TZNAME:EDT
DTSTART:20260308T070000
END:DAYLIGHT
BEGIN:STANDARD
TZOFFSETFROM:-0400
TZOFFSETTO:-0500
TZNAME:EST
DTSTART:20261101T060000
END:STANDARD
END:VTIMEZONE
BEGIN:VEVENT
DTSTART;TZID=America/New_York:20260129T193000
DTEND;TZID=America/New_York:20260129T213000
DTSTAMP:20260423T211936
CREATED:20260124T191554Z
LAST-MODIFIED:20260219T234808Z
UID:1966-1769715000-1769722200@greenbeltastro.org
SUMMARY:CANCELLED: Monthly Meeting
DESCRIPTION:THIS EVENT HAS BEEN CANCELLED DUE TO POOR WEATHER CONDITIONS\nCheck back to the calendar later\, as Dr. Jonathan Mawdsley will be doing their presentation in a different month. \nDr. Jonathan Mawdsley will be speaking on “The Galileo Affair”\, an exploration of the differing worldviews engaged in the historic conflict between Galileo and the Catholic Church\, with a particular focus on Robert Bellarmine\, Cardinal\, Saint and doctor of the Church. \nOur monthly meetings are usually held on the last Thursday of each month. Our speakers are drawn from all around the country\, including experts from NASA\, the Smithsonian\, the National Radio Astronomy Observatory\, and other scientific institutions. Our members also give presentations about subjects of interest to amateur astronomers. \nThe events are held at the Greenbelt Community Center. We encourage visitors to attend in person\, although we will also broadcast the talk on Zoom. The zoom session opens at 7:00 PM for set-up and technical glitches. The link is below. \nThe presentations are free and open to the public. \nPer our insurance requirements\, anyone under 18 years old must be accompanied by a parent or guardian. \n  \nZoom Meeting: \nCANCELLED \nTopic: ASG Jan 2026\nTime: Jan 29\, 2026 07:00 PM Eastern Time (US and Canada)\nJoin Zoom Meeting\nhttps://us02web.zoom.us/j/87570224945?pwd=kzE2R1jDzIBOkIHRQa389mg6NFamUu.1 \nMeeting ID: 875 7022 4945\nPasscode: 028979 \n— \nOne tap mobile\n+13017158592\,\,87570224945#\,\,\,\,*028979# US (Washington DC)\n+13052241968\,\,87570224945#\,\,\,\,*028979# US \nJoin instructions\nhttps://us02web.zoom.us/meetings/87570224945/invitations?signature=S_WDoTjNpCascf-au62B4ZdfiYos61KaWYKfhC4dj7w \n 
URL:https://greenbeltastro.org/event/monthly-meeting-2026-1-29/
LOCATION:Greenbelt Community Center\, 15 Crescent Road\, Greenbelt\, MD\, 20770\, United States
CATEGORIES:Educational Events
END:VEVENT
END:VCALENDAR