BEGIN:VCALENDAR
VERSION:2.0
PRODID:-//Astronomical Society of Greenbelt - ECPv6.15.3//NONSGML v1.0//EN
CALSCALE:GREGORIAN
METHOD:PUBLISH
X-WR-CALNAME:Astronomical Society of Greenbelt
X-ORIGINAL-URL:https://greenbeltastro.org
X-WR-CALDESC:Events for Astronomical Society of Greenbelt
REFRESH-INTERVAL;VALUE=DURATION:PT1H
X-Robots-Tag:noindex
X-PUBLISHED-TTL:PT1H
BEGIN:VTIMEZONE
TZID:America/New_York
BEGIN:DAYLIGHT
TZOFFSETFROM:-0500
TZOFFSETTO:-0400
TZNAME:EDT
DTSTART:20250309T070000
END:DAYLIGHT
BEGIN:STANDARD
TZOFFSETFROM:-0400
TZOFFSETTO:-0500
TZNAME:EST
DTSTART:20251102T060000
END:STANDARD
END:VTIMEZONE
BEGIN:VEVENT
DTSTART;TZID=America/New_York:20250327T190000
DTEND;TZID=America/New_York:20250327T210000
DTSTAMP:20260424T071050
CREATED:20250326T160700Z
LAST-MODIFIED:20250326T160701Z
UID:1746-1743102000-1743109200@greenbeltastro.org
SUMMARY:Monthly Meeting
DESCRIPTION:The Astronomical Society of Greenbelt will hold its monthly meeting on March 27 at 7:30 PM in room 114 of the Greenbelt Community Center and online. In honor of Women’s History Month\, Dr. Corinne (Cory) Carter will be making a presentation about historical women in the Earth sciences. These range from a 17th-century geologist to women who got their jobs when the men were away fighting World War II. The Zoom link will be posted on the calendar of the Astronomical Society website before the meeting. \nThe events are held at the Greenbelt Community Center. We encourage visitors to attend in person\, although we will also broadcast the talk on Zoom. Come back a few days before the meeting to see how to join the Zoom meeting. We begin the meetings at 7:00 pm with informal conversation. The presentation begins at 7:30 pm. \nThe presentations are free and open to the public. \nPer our insurance requirements\, anyone under 18 years old must be accompanied by a parent or guardian.
URL:https://greenbeltastro.org/event/monthly-meeting-2025-2-4/
LOCATION:Greenbelt Community Center\, 15 Crescent Road\, Greenbelt\, MD\, 20770\, United States
CATEGORIES:Educational Events
END:VEVENT
END:VCALENDAR