BEGIN:VCALENDAR
VERSION:2.0
PRODID:-//Astronomical Society of Greenbelt - ECPv6.15.3//NONSGML v1.0//EN
CALSCALE:GREGORIAN
METHOD:PUBLISH
X-WR-CALNAME:Astronomical Society of Greenbelt
X-ORIGINAL-URL:https://greenbeltastro.org
X-WR-CALDESC:Events for Astronomical Society of Greenbelt
REFRESH-INTERVAL;VALUE=DURATION:PT1H
X-Robots-Tag:noindex
X-PUBLISHED-TTL:PT1H
BEGIN:VTIMEZONE
TZID:America/New_York
BEGIN:DAYLIGHT
TZOFFSETFROM:-0500
TZOFFSETTO:-0400
TZNAME:EDT
DTSTART:20250309T070000
END:DAYLIGHT
BEGIN:STANDARD
TZOFFSETFROM:-0400
TZOFFSETTO:-0500
TZNAME:EST
DTSTART:20251102T060000
END:STANDARD
END:VTIMEZONE
BEGIN:VEVENT
DTSTART;TZID=America/New_York:20250130T190000
DTEND;TZID=America/New_York:20250130T210000
DTSTAMP:20260424T084743
CREATED:20250120T203032Z
LAST-MODIFIED:20250120T203033Z
UID:1734-1738263600-1738270800@greenbeltastro.org
SUMMARY:Monthly Meeting
DESCRIPTION:ASG member Joseph Grikis will give a presentation entitled “The Most Famous Astronomer You Never Knew” at 7:30 pm on January 30\, 2025\, at the Greenbelt Community Center. Without giving away the identity of the mystery scientist\, suffice it to say the individual was a highly talented and historically under-appreciated star gazer\, physicist\, and mathematician. \nThe event will be held at the Greenbelt Community Center. We encourage visitors to attend in person\, although we will also broadcast the talk on Zoom. Come back a few days before the meeting to see how to join the Zoom meeting. We begin the meetings at 7:00 pm with informal conversation. The presentation begins at 7:30 pm. \nThe presentations are free and open to the public. \nPer our insurance requirements\, anyone under 18 years old must be accompanied by a parent or guardian.
URL:https://greenbeltastro.org/event/monthly-meeting-2025-2-2/
LOCATION:Greenbelt Community Center\, 15 Crescent Road\, Greenbelt\, MD\, 20770\, United States
CATEGORIES:Educational Events
END:VEVENT
END:VCALENDAR