BEGIN:VCALENDAR
VERSION:2.0
PRODID:-//Astronomical Society of Greenbelt - ECPv6.15.3//NONSGML v1.0//EN
CALSCALE:GREGORIAN
METHOD:PUBLISH
X-WR-CALNAME:Astronomical Society of Greenbelt
X-ORIGINAL-URL:https://greenbeltastro.org
X-WR-CALDESC:Events for Astronomical Society of Greenbelt
REFRESH-INTERVAL;VALUE=DURATION:PT1H
X-Robots-Tag:noindex
X-PUBLISHED-TTL:PT1H
BEGIN:VTIMEZONE
TZID:America/New_York
BEGIN:DAYLIGHT
TZOFFSETFROM:-0500
TZOFFSETTO:-0400
TZNAME:EDT
DTSTART:20240310T070000
END:DAYLIGHT
BEGIN:STANDARD
TZOFFSETFROM:-0400
TZOFFSETTO:-0500
TZNAME:EST
DTSTART:20241103T060000
END:STANDARD
END:VTIMEZONE
BEGIN:VEVENT
DTSTART;TZID=America/New_York:20241031T190000
DTEND;TZID=America/New_York:20241031T210000
DTSTAMP:20260424T130342
CREATED:20241031T002949Z
LAST-MODIFIED:20241031T002949Z
UID:1654-1730401200-1730408400@greenbeltastro.org
SUMMARY:Monthly Meeting
DESCRIPTION:The Astronomical Society of Greenbelt will meet at 7:30 pm on Thursday\, October 31\, in Room 114 of the Greenbelt Community Center. ASG member Sue Bassett will speak on “The Spooky Origins of Hubble Class Space Telescopes.” \nThe meeting is free and open to the public. We meet for casual conversation at 7:00 pm\, and the talk begins at 7:30 pm. Visitors are encouraged to attend in person\, although we also have a Zoom option available. All minors must be accompanied by a parent or guardian.  \nJoin Zoom Meeting\n\nLink: https://us02web.zoom.us/j/84753586224?pwd=YW5yb0pxMEJRV1JUWDk4bkNPNDByUT09\nMeeting ID: 847 5358 6224\nPasscode: 204903
URL:https://greenbeltastro.org/event/monthly-meeting-8/
LOCATION:Greenbelt Community Center\, 15 Crescent Road\, Greenbelt\, MD\, 20770\, United States
CATEGORIES:Educational Events
END:VEVENT
END:VCALENDAR