BEGIN:VCALENDAR
VERSION:2.0
PRODID:-//Astronomical Society of Greenbelt - ECPv6.15.3//NONSGML v1.0//EN
CALSCALE:GREGORIAN
METHOD:PUBLISH
X-ORIGINAL-URL:https://greenbeltastro.org
X-WR-CALDESC:Events for Astronomical Society of Greenbelt
REFRESH-INTERVAL;VALUE=DURATION:PT1H
X-Robots-Tag:noindex
X-PUBLISHED-TTL:PT1H
BEGIN:VTIMEZONE
TZID:America/New_York
BEGIN:DAYLIGHT
TZOFFSETFROM:-0500
TZOFFSETTO:-0400
TZNAME:EDT
DTSTART:20230312T070000
END:DAYLIGHT
BEGIN:STANDARD
TZOFFSETFROM:-0400
TZOFFSETTO:-0500
TZNAME:EST
DTSTART:20231105T060000
END:STANDARD
END:VTIMEZONE
BEGIN:VEVENT
DTSTART;TZID=America/New_York:20231130T190000
DTEND;TZID=America/New_York:20231130T210000
DTSTAMP:20260424T210825
CREATED:20230117T045837Z
LAST-MODIFIED:20231128T214925Z
UID:1192-1701370800-1701378000@greenbeltastro.org
SUMMARY:Monthly Meeting
DESCRIPTION:Our meeting will be held November 30\, 7:00–9:00 pm\, in room 103 at the Greenbelt Community Center. Our speaker this month is Kristen Weaver\, the deputy coordinator for the Global Learning and Observations to Benefit the Environment (GLOBE) Observer project\, which aims to extend the long-standing citizen-science and science-education program GLOBE to non-school-based audiences.  \nWhile the focus of the total solar eclipse in 2024 for many people will be the amazing astronomical phenomenon\, it is also an opportunity to observe the effect of eclipses on Earth’s atmosphere. Kristin will be speaking on how you can use the GLOBE Eclipse tool as part of GLOBE Observer as a volunteer observer to report on how the eclipse changes atmospheric conditions near you\, especially as related to clouds and air temperature. \nThis meeting will also be streamed via Zoom for those who cannot meet in person. We gather at 7:00 for informal discussion\, and the lecture begins at 7:30. This meeting is free and open to the public. \nZoom Information\n\nJoin online: https://us02web.zoom.us/j/84572402296?pwd=eXN5S3Rmb3F6aDVhTEY4V3lvbFFDUT09\nJoin via phone: (301) 715-8592\nMeeting ID: 845 7240 2296\nPasscode: 727040
URL:https://greenbeltastro.org/event/monthly-meeting-2023-11-30/
LOCATION:Greenbelt Community Center\, 15 Crescent Road\, Greenbelt\, MD\, 20770\, United States
CATEGORIES:Educational Events
END:VEVENT
END:VCALENDAR