BEGIN:VCALENDAR
VERSION:2.0
PRODID:-//Astronomical Society of Greenbelt - ECPv6.15.3//NONSGML v1.0//EN
CALSCALE:GREGORIAN
METHOD:PUBLISH
X-WR-CALNAME:Astronomical Society of Greenbelt
X-ORIGINAL-URL:https://greenbeltastro.org
X-WR-CALDESC:Events for Astronomical Society of Greenbelt
REFRESH-INTERVAL;VALUE=DURATION:PT1H
X-Robots-Tag:noindex
X-PUBLISHED-TTL:PT1H
BEGIN:VTIMEZONE
TZID:America/New_York
BEGIN:DAYLIGHT
TZOFFSETFROM:-0500
TZOFFSETTO:-0400
TZNAME:EDT
DTSTART:20230312T070000
END:DAYLIGHT
BEGIN:STANDARD
TZOFFSETFROM:-0400
TZOFFSETTO:-0500
TZNAME:EST
DTSTART:20231105T060000
END:STANDARD
END:VTIMEZONE
BEGIN:VEVENT
DTSTART;TZID=America/New_York:20230831T190000
DTEND;TZID=America/New_York:20230831T210000
DTSTAMP:20260424T233707
CREATED:20230117T045837Z
LAST-MODIFIED:20230829T140126Z
UID:1191-1693508400-1693515600@greenbeltastro.org
SUMMARY:Monthly Meeting
DESCRIPTION:Kevin A. Wilson\, PhD\, will give a presentation on astronomical spectroscopy for amateur astronomers. Spectroscopy is the analysis of the light emitted by astronomical objects. He will discuss the concept of spectroscopy\, what we can learn from it\, and how amateurs can do spectroscopy. Kevin is the vice president of the ASG and a life-long amateur astronomer. \nOur monthly meetings begin with casual conversation at 7:00 pm. The lecture starts at 7:30 pm. The meetings are free and open to the public. People may attend in person at the Greenbelt Community Center or online via Zoom. \nJoin on Zoom\nBy computer: https://us02web.zoom.us/j/83521167612?pwd=R0owcEVKSTZYTUQraml6ZkJ4aHZ5QT09\nBy phone: (301) 715-8592 \nMeeting ID: 835 2116 7612\nPasscode: 657910
URL:https://greenbeltastro.org/event/monthly-meeting-2023-08-31/
LOCATION:Greenbelt Community Center\, 15 Crescent Road\, Greenbelt\, MD\, 20770\, United States
CATEGORIES:Educational Events
END:VEVENT
END:VCALENDAR