BEGIN:VCALENDAR
VERSION:2.0
PRODID:-//Astronomical Society of Greenbelt - ECPv6.15.3//NONSGML v1.0//EN
CALSCALE:GREGORIAN
METHOD:PUBLISH
X-WR-CALNAME:Astronomical Society of Greenbelt
X-ORIGINAL-URL:https://greenbeltastro.org
X-WR-CALDESC:Events for Astronomical Society of Greenbelt
REFRESH-INTERVAL;VALUE=DURATION:PT1H
X-Robots-Tag:noindex
X-PUBLISHED-TTL:PT1H
BEGIN:VTIMEZONE
TZID:America/New_York
BEGIN:DAYLIGHT
TZOFFSETFROM:-0500
TZOFFSETTO:-0400
TZNAME:EDT
DTSTART:20220313T070000
END:DAYLIGHT
BEGIN:STANDARD
TZOFFSETFROM:-0400
TZOFFSETTO:-0500
TZNAME:EST
DTSTART:20221106T060000
END:STANDARD
END:VTIMEZONE
BEGIN:VEVENT
DTSTART;TZID=America/New_York:20221117T193000
DTEND;TZID=America/New_York:20221117T210000
DTSTAMP:20260425T144031
CREATED:20221102T155219Z
LAST-MODIFIED:20221115T161658Z
UID:1105-1668713400-1668718800@greenbeltastro.org
SUMMARY:November Meeting: Cryovolcanism of Our Solar System
DESCRIPTION:Our November meeting will be held on Thursday\, November 17. Dr. Caitlin Ahrens will be presenting a talk entitled “Pop\, Fizz\, Bang: Cryovolcanism of Our Solar System.” This event is free and open to the public. We will gather at 7:00 pm for informal conversation\, and the lecture will begin at 7:30 pm. \nDr. Ahrens’s research involves remote sensing of icy surfaces and volatile interactions\, including permanently shadowed craters at the lunar poles and cryovolcanism (ice volcanos). Dr. Ahrens also works on several planetary geomorphology projects\, including lava flow morphology\, glaciers\, and caldera formation on Mars\, Ceres\, Titan\, and Pluto. She also has experience in radio astronomy\, seismology\, and high-altitude rocket payloads. \nDr. Ahrens received her BS in physics/astrophysics and geology from West Virginia University in 2015 and a PhD in space and planetary science at the University of Arkansas in 2020. Dr. Ahrens is currently a NASA Postdoctoral Program Fellow at the Goddard Space Flight Center and a member of the Diviner Science Team with the Lunar Reconnaissance Orbiter. In 2018\, she was awarded the Ten Outstanding Young Americans award by the US Junior Chamber for her efforts in science communication and outreach on national and international collaborations. \nThis meeting will be held at the Greenbelt Community Center and streamed live on Zoom.  \nZoom Information\nJoin online: https://us02web.zoom.us/j/82253259519?pwd=Z2JJTXVDZUcraWs0WHNhd0wzSTJFZz09 \nJoin via telephone: (301) 715-8592; Meeting ID: 822 5325 9519; Passcode: 153276
URL:https://greenbeltastro.org/event/november-meeting-cryovolcanism-of-our-solar-system/
LOCATION:Greenbelt Community Center\, 15 Crescent Road\, Greenbelt\, MD\, 20770\, United States
CATEGORIES:Educational Events
END:VEVENT
END:VCALENDAR