BEGIN:VCALENDAR
VERSION:2.0
PRODID:-//Astronomical Society of Greenbelt - ECPv6.15.3//NONSGML v1.0//EN
CALSCALE:GREGORIAN
METHOD:PUBLISH
X-ORIGINAL-URL:https://greenbeltastro.org
X-WR-CALDESC:Events for Astronomical Society of Greenbelt
REFRESH-INTERVAL;VALUE=DURATION:PT1H
X-Robots-Tag:noindex
X-PUBLISHED-TTL:PT1H
BEGIN:VTIMEZONE
TZID:America/New_York
BEGIN:DAYLIGHT
TZOFFSETFROM:-0500
TZOFFSETTO:-0400
TZNAME:EDT
DTSTART:20220313T070000
END:DAYLIGHT
BEGIN:STANDARD
TZOFFSETFROM:-0400
TZOFFSETTO:-0500
TZNAME:EST
DTSTART:20221106T060000
END:STANDARD
END:VTIMEZONE
BEGIN:VEVENT
DTSTART;TZID=America/New_York:20221027T190000
DTEND;TZID=America/New_York:20221027T203000
DTSTAMP:20260425T161747
CREATED:20221010T050349Z
LAST-MODIFIED:20221027T183551Z
UID:1092-1666897200-1666902600@greenbeltastro.org
SUMMARY:October Meeting: Don't Look Up! Comet and Asteroid Impacts
DESCRIPTION:The Astronomical Society of Greenbelt will have a hybrid in-person and Zoom meeting on Thursday October 27.  ASG member Sue Bassett will be giving a talk entitled “Don’t Look Up! Comet and Asteroid Impacts.”\nThis event is free and open to the public. It will be held at the Greenbelt Community Center and live streamed on Zoom. We will gather for informal chat at 7:00 pm. Sue will begin her talk at 7:30 pm. \nJoin the Zoom Meeting online at https://us02web.zoom.us/j/83070333301?pwd=azdDZVB5MGNnQldXK0VHWWlmZHNHZz09. \n\nMeeting ID: 830 7033 3301\nPasscode: 981000\n\nJoin by Phone \n\n+13017158592\,\,83070333301#\,\,\,\,*981000# US (Washington\, DC)\n+16469313860\,\,83070333301#\,\,\,\,*981000# US
URL:https://greenbeltastro.org/event/october-meeting-dont-look-up-comet-and-asteroid-impacts/
LOCATION:Greenbelt Community Center\, 15 Crescent Road\, Greenbelt\, MD\, 20770\, United States
CATEGORIES:Educational Events
END:VEVENT
END:VCALENDAR