BEGIN:VCALENDAR
VERSION:2.0
PRODID:-//Astronomical Society of Greenbelt - ECPv6.15.3//NONSGML v1.0//EN
CALSCALE:GREGORIAN
METHOD:PUBLISH
X-ORIGINAL-URL:https://greenbeltastro.org
X-WR-CALDESC:Events for Astronomical Society of Greenbelt
REFRESH-INTERVAL;VALUE=DURATION:PT1H
X-Robots-Tag:noindex
X-PUBLISHED-TTL:PT1H
BEGIN:VTIMEZONE
TZID:America/New_York
BEGIN:DAYLIGHT
TZOFFSETFROM:-0500
TZOFFSETTO:-0400
TZNAME:EDT
DTSTART:20220313T070000
END:DAYLIGHT
BEGIN:STANDARD
TZOFFSETFROM:-0400
TZOFFSETTO:-0500
TZNAME:EST
DTSTART:20221106T060000
END:STANDARD
END:VTIMEZONE
BEGIN:VEVENT
DTSTART;TZID=America/New_York:20220929T070000
DTEND;TZID=America/New_York:20220929T203000
DTSTAMP:20260425T161747
CREATED:20220920T154145Z
LAST-MODIFIED:20221010T050414Z
UID:1081-1664434800-1664483400@greenbeltastro.org
SUMMARY:September Meeting: Getting Students Excited about Space
DESCRIPTION:Selene Willis will be giving a talk entitled “Getting Students Excited about Space.” Selene has been a formal science educator for 15 years in public and independent middle and high schools. She spent the last year as the Albert Einstein Distinguished Educator Fellow at NASA\, focusing on equity\, inclusion\, and broadening participation of STEM education for Science Activation projects within NASA’s Science Mission Directorate. She is currently the new deputy director at The Ingenuity Project in Baltimore\, MD. \nSelene holds a BS in biochemistry from Virginia Tech and a MEd from Pace University. Selene is in the final stages of her doctoral degree in science curriculum and instruction at the University of South Florida. Her research examines the use of justice-centered science pedagogy and curriculum development as a path to student critical consciousness. \nThis event is free and open to the public. It will be held at the Greenbelt Community Center and live streamed on Zoom. We will gather for informal chat at 7:00 pm. Selene will begin her talk at 7:30 pm. \nZoom Link: https://us02web.zoom.us/j/87565896696?pwd=UlFPR1E3Y3NqeXJUUk1zNGx4eXp3UT09
URL:https://greenbeltastro.org/event/getting-students-excited-about-space/
LOCATION:Greenbelt Community Center\, 15 Crescent Road\, Greenbelt\, MD\, 20770\, United States
CATEGORIES:Educational Events
END:VEVENT
END:VCALENDAR