BEGIN:VCALENDAR
VERSION:2.0
PRODID:-//Astronomical Society of Greenbelt - ECPv6.15.3//NONSGML v1.0//EN
CALSCALE:GREGORIAN
METHOD:PUBLISH
X-ORIGINAL-URL:https://greenbeltastro.org
X-WR-CALDESC:Events for Astronomical Society of Greenbelt
REFRESH-INTERVAL;VALUE=DURATION:PT1H
X-Robots-Tag:noindex
X-PUBLISHED-TTL:PT1H
BEGIN:VTIMEZONE
TZID:America/New_York
BEGIN:DAYLIGHT
TZOFFSETFROM:-0500
TZOFFSETTO:-0400
TZNAME:EDT
DTSTART:20220313T070000
END:DAYLIGHT
BEGIN:STANDARD
TZOFFSETFROM:-0400
TZOFFSETTO:-0500
TZNAME:EST
DTSTART:20221106T060000
END:STANDARD
END:VTIMEZONE
BEGIN:VEVENT
DTSTART;TZID=America/New_York:20220428T193000
DTEND;TZID=America/New_York:20220428T210000
DTSTAMP:20260426T002226
CREATED:20220223T223337Z
LAST-MODIFIED:20220426T213657Z
UID:544-1651174200-1651179600@greenbeltastro.org
SUMMARY:April Meeting: Amateur Radio Astronomy
DESCRIPTION:Kevin A. Wilson\, PhD\, will be presenting a talk on amateur radio astronomy and the DIY radio telescope he built to study the hydrogen emissions from the Milky Way. \nThis event is presented in hybrid format. We will be meeting in room 114 at the Greenbelt Community Center. For those who are unable to attend in person or would prefer to watch online\, we will be livestreaming the event on Zoom. \nKevin earned his PhD in Northwest Semitic Philology and Old Testament/Hebrew Bible from The Johns Hopkins University. He also holds  Master of Divinity and Master of Sacred Theology degrees from Yale Divinity School. He has taught at colleges and seminaries in Virginia\, Tennessee\, Iowa\, and Massachusetts\, and spent three years as a professor in Lithuania. He has worked on archaeological excavations in Israel\, Egypt\, and Jordan. Kevin is the director of marketing for the Astronomical Society of Greenbelt. \nThe Zoom session will open at 7:00 pm for an informal chat. The presentation will start at 7:30 pm. \nZoom Meeting Information\n\nURL: https://us02web.zoom.us/j/83022058327?pwd=VU1RRC9uMTE0TFpWUlpsSC94UERMUT09\nMeeting ID: 830 2205 8327\nPasscode: 905564\nOne-Tap Mobile: +13017158592\,\,83022058327#\,\,\,\,*905564# US (Washington DC)\n\n 
URL:https://greenbeltastro.org/event/april-meeting-amateur-radio-astronomy/
LOCATION:Greenbelt Community Center\, 15 Crescent Road\, Greenbelt\, MD\, 20770\, United States
CATEGORIES:Educational Events
END:VEVENT
END:VCALENDAR