BEGIN:VCALENDAR
VERSION:2.0
PRODID:-//Astronomical Society of Greenbelt - ECPv6.15.3//NONSGML v1.0//EN
CALSCALE:GREGORIAN
METHOD:PUBLISH
X-ORIGINAL-URL:https://greenbeltastro.org
X-WR-CALDESC:Events for Astronomical Society of Greenbelt
REFRESH-INTERVAL;VALUE=DURATION:PT1H
X-Robots-Tag:noindex
X-PUBLISHED-TTL:PT1H
BEGIN:VTIMEZONE
TZID:America/New_York
BEGIN:DAYLIGHT
TZOFFSETFROM:-0500
TZOFFSETTO:-0400
TZNAME:EDT
DTSTART:20260308T070000
END:DAYLIGHT
BEGIN:STANDARD
TZOFFSETFROM:-0400
TZOFFSETTO:-0500
TZNAME:EST
DTSTART:20261101T060000
END:STANDARD
END:VTIMEZONE
BEGIN:VEVENT
DTSTART;TZID=America/New_York:20260207T183000
DTEND;TZID=America/New_York:20260207T203000
DTSTAMP:20260423T175742
CREATED:20260122T023820Z
LAST-MODIFIED:20260219T234808Z
UID:1875-1770489000-1770496200@greenbeltastro.org
SUMMARY:CANCELLED: Star Party
DESCRIPTION:THIS EVENT HAS BEEN CANCELLED DUE TO POOR WEATHER CONDITIONS\nWeather permitting\, we will hold a star party at the Greenbelt Observatory. The observatory will be open to visitors to view the wonders of the heavens. People are also welcome to bring their own telescopes to set up for observation. \nThe event is open to members and non-members of all ages at no cost. We provide a fun\, family-friendly environment for learning about the universe. This is a great way to meet other astronomers in the community. And\, if you are new to the hobby\, members are always willing to help you learn how to use your telescope. \nOur star parties generally begin about an hour after sunset and run for two hours. \nPlease note that star parties may be canceled without prior notice in the event of overcast skies or extremely inclement weather conditions. In addition\, the observatory is made of metal and has no heating or cooling system. Please be aware that the temperature inside will be roughly the same inside as it is outside\, although in summer it is sometimes hotter inside. Please dress accordingly. \nIn accordance with Prince George’s County guidelines\, masks are voluntary. \n 
URL:https://greenbeltastro.org/event/2026-02-07/
LOCATION:City of Greenbelt Observatory\, 8101 Northway Road\, Greenbelt\, MD\, 20770\, United States
CATEGORIES:Educational Events,Star Parties
END:VEVENT
BEGIN:VEVENT
DTSTART;TZID=America/New_York:20260214T190000
DTEND;TZID=America/New_York:20260214T210000
DTSTAMP:20260423T175742
CREATED:20260122T023820Z
LAST-MODIFIED:20260219T234808Z
UID:1876-1771095600-1771102800@greenbeltastro.org
SUMMARY:Star Party
DESCRIPTION:Weather permitting\, we will hold a star party at the Greenbelt Observatory. The observatory will be open to visitors to view the wonders of the heavens. People are also welcome to bring their own telescopes to set up for observation. \nThe event is open to members and non-members of all ages at no cost. We provide a fun\, family-friendly environment for learning about the universe. This is a great way to meet other astronomers in the community. And\, if you are new to the hobby\, members are always willing to help you learn how to use your telescope. \nOur star parties generally begin about an hour after sunset and run for two hours.  \nPlease note that star parties may be canceled without prior notice in the event of overcast skies or extremely inclement weather conditions. In addition\, the observatory is made of metal and has no heating or cooling system. Please be aware that the temperature inside will be roughly the same inside as it is outside\, although in summer it is sometimes hotter inside. Please dress accordingly. \nIn accordance with Prince George’s County guidelines\, masks are voluntary.
URL:https://greenbeltastro.org/event/2026-02-14/
LOCATION:City of Greenbelt Observatory\, 8101 Northway Road\, Greenbelt\, MD\, 20770\, United States
CATEGORIES:Educational Events,Star Parties
END:VEVENT
BEGIN:VEVENT
DTSTART;TZID=America/New_York:20260226T193000
DTEND;TZID=America/New_York:20260226T213000
DTSTAMP:20260423T175742
CREATED:20260124T191554Z
LAST-MODIFIED:20260225T235615Z
UID:1967-1772134200-1772141400@greenbeltastro.org
SUMMARY:Monthly Meeting: What is a Planet?
DESCRIPTION:Indy Kochte of The Johns Hopkins Applied Physics Laboratory\, who has worked on both the MESSENGER Mercury orbiter project and the New Horizons Pluto Flyby mission\, will present a thought-provoking talk on what exactly defines a planet.  In light of the IAU’s controversial demotion of Pluto\, this should generate a spirited discussion \n  \nOur monthly meetings are usually held on the last Thursday of each month. Our speakers are drawn from all around the country\, including experts from NASA\, the Smithsonian\, the National Radio Astronomy Observatory\, and other scientific institutions. Our members also give presentations about subjects of interest to amateur astronomers. \nThe events are held at the Greenbelt Community Center. We encourage visitors to attend in person\, although we will also broadcast the talk on Zoom. Come back a few days before the meeting to see how to join the Zoom meeting. We begin the meetings at 7:00 pm with informal conversation. The presentation begins at 7:30 pm. \nThe presentations are free and open to the public. \nPer our insurance requirements\, anyone under 18 years old must be accompanied by a parent or guardian. \n  \nVirtual Zoom meeting information: \n \n\ngreenbelt astro is inviting you to a scheduled Zoom meeting.\n \nTopic: ASG February\nTime: Feb 26\, 2026 07:00 PM Eastern Time (US and Canada)\n(7:00 – 7:30 is for set-up and fixing technical glitches;  lecture starts at 7:30)\nJoin Zoom Meeting\nhttps://us02web.zoom.us/j/82518299469?pwd=9mq0IqBpjXBBUTVNLJWqLo8YzEy18a.1\n \nMeeting ID: 825 1829 9469\nPasscode: 674067\n \n—\n \nOne tap mobile\n+13017158592\,\,82518299469#\,\,\,\,*674067# US (Washington DC)\n+13092053325\,\,82518299469#\,\,\,\,*674067# US\n \nJoin instructions\nhttps://us02web.zoom.us/meetings/82518299469/invitations?signature=amBRhCRLimsXqcu7JhE-RTzu-JO-zReRouUON7r-BYw\n\n 
URL:https://greenbeltastro.org/event/monthly-meeting-2026-2-26/
LOCATION:Greenbelt Community Center\, 15 Crescent Road\, Greenbelt\, MD\, 20770\, United States
CATEGORIES:Educational Events
END:VEVENT
END:VCALENDAR