BEGIN:VCALENDAR
VERSION:2.0
PRODID:-//Astronomical Society of Greenbelt - ECPv6.15.3//NONSGML v1.0//EN
CALSCALE:GREGORIAN
METHOD:PUBLISH
X-WR-CALNAME:Astronomical Society of Greenbelt
X-ORIGINAL-URL:https://greenbeltastro.org
X-WR-CALDESC:Events for Astronomical Society of Greenbelt
REFRESH-INTERVAL;VALUE=DURATION:PT1H
X-Robots-Tag:noindex
X-PUBLISHED-TTL:PT1H
BEGIN:VTIMEZONE
TZID:America/New_York
BEGIN:DAYLIGHT
TZOFFSETFROM:-0500
TZOFFSETTO:-0400
TZNAME:EDT
DTSTART:20250309T070000
END:DAYLIGHT
BEGIN:STANDARD
TZOFFSETFROM:-0400
TZOFFSETTO:-0500
TZNAME:EST
DTSTART:20251102T060000
END:STANDARD
END:VTIMEZONE
BEGIN:VEVENT
DTSTART;TZID=America/New_York:20250201T183000
DTEND;TZID=America/New_York:20250201T203000
DTSTAMP:20260424T071542
CREATED:20250120T200009Z
LAST-MODIFIED:20250120T200202Z
UID:1686-1738434600-1738441800@greenbeltastro.org
SUMMARY:Star Party
DESCRIPTION:Weather permitting\, we will hold a star party at the Greenbelt Observatory. The observatory will be open to visitors to view the wonders of the heavens. People are also welcome to bring their own telescopes to set up for observation.\nThe event is open to members and non-members of all ages at no cost. We provide a fun\, family-friendly environment for learning about the universe. This is a great way to meet other astronomers in the community. And\, if you are new to the hobby\, members are always willing to help you learn how to use your telescope. \nOur star parties generally begin about an hour after sunset and run for two hours.  \nPlease note that star parties may be canceled without prior notice in the event of overcast skies or extremely inclement weather conditions. In addition\, the observatory is made of metal and has no heating or cooling system. Please be aware that the temperature inside will be roughly the same inside as it is outside\, although in summer it is sometimes hotter inside. Please dress accordingly. \nIn accordance with Prince George’s County guidelines\, masks are voluntary.
URL:https://greenbeltastro.org/event/2025-02-01/
LOCATION:City of Greenbelt Observatory\, 8101 Northway Road\, Greenbelt\, MD\, 20770\, United States
CATEGORIES:Educational Events,Star Parties
END:VEVENT
BEGIN:VEVENT
DTSTART;TZID=America/New_York:20250227T190000
DTEND;TZID=America/New_York:20250227T210000
DTSTAMP:20260424T071542
CREATED:20250224T194300Z
LAST-MODIFIED:20250224T194300Z
UID:1739-1740682800-1740690000@greenbeltastro.org
SUMMARY:Monthly Meeting
DESCRIPTION:In observance of Black History Month\, the topic of our February meeting is Benjamin Banneker\, the first prominent Black scientist in the United States. Kevin A. Wilson\, PhD\, will deliver a presentation on the life\, work\, and significance of Banneker\, who was an astronomer.  \nThe events are held at the Greenbelt Community Center. We encourage visitors to attend in person\, although we will also broadcast the talk on Zoom. Come back a few days before the meeting to see how to join the Zoom meeting. We begin the meetings at 7:00 pm with informal conversation. The presentation begins at 7:30 pm. \nThe presentations are free and open to the public. \nPer our insurance requirements\, anyone under 18 years old must be accompanied by a parent or guardian. \nZoom Information\n\nURL: https://us02web.zoom.us/j/84226480094?pwd=xuWoThqSQ5xEpdoOtbMFR4bQFRQuBb.1\nMeeting ID: 842 2648 0094\nPasscode: 246595
URL:https://greenbeltastro.org/event/monthly-meeting-2025-2-3/
LOCATION:Greenbelt Community Center\, 15 Crescent Road\, Greenbelt\, MD\, 20770\, United States
CATEGORIES:Educational Events
END:VEVENT
END:VCALENDAR