BEGIN:VCALENDAR
VERSION:2.0
PRODID:-//Astronomical Society of Greenbelt - ECPv6.15.3//NONSGML v1.0//EN
CALSCALE:GREGORIAN
METHOD:PUBLISH
X-ORIGINAL-URL:https://greenbeltastro.org
X-WR-CALDESC:Events for Astronomical Society of Greenbelt
REFRESH-INTERVAL;VALUE=DURATION:PT1H
X-Robots-Tag:noindex
X-PUBLISHED-TTL:PT1H
BEGIN:VTIMEZONE
TZID:America/New_York
BEGIN:DAYLIGHT
TZOFFSETFROM:-0500
TZOFFSETTO:-0400
TZNAME:EDT
DTSTART:20230312T070000
END:DAYLIGHT
BEGIN:STANDARD
TZOFFSETFROM:-0400
TZOFFSETTO:-0500
TZNAME:EST
DTSTART:20231105T060000
END:STANDARD
END:VTIMEZONE
BEGIN:VEVENT
DTSTART;VALUE=DATE:20230215
DTEND;VALUE=DATE:20230314
DTSTAMP:20260425T065637
CREATED:20230216T194050Z
LAST-MODIFIED:20230216T194050Z
UID:1278-1676419200-1678751999@greenbeltastro.org
SUMMARY:NEO Observation Campaign
DESCRIPTION:The ASG Near-Earth Object Observation Program is partnering with the International Astronomical Search Collaboration (IASC) for a special asteroid search campaign during February and March 2023. Our team was selected from the hundreds of teams worldwide that apply annually to participate in the Find an Asteroid search campaign. \nRead more about the program and how to join on the Near-Earth Object Observation Program page.
URL:https://greenbeltastro.org/event/neo-observation-campaign/
LOCATION:MD
CATEGORIES:Educational Events
END:VEVENT
BEGIN:VEVENT
DTSTART;TZID=America/New_York:20230330T190000
DTEND;TZID=America/New_York:20230330T210000
DTSTAMP:20260425T065637
CREATED:20230117T045837Z
LAST-MODIFIED:20230321T182415Z
UID:1185-1680202800-1680210000@greenbeltastro.org
SUMMARY:Monthly Meeting: The Nancy Grace Roman Space Telescope
DESCRIPTION:On March 30\, Corrine Carter and Sue Bassett will talk about the Nancy Grace Roman Space Telescope that is planned for launch in 2027. We will gather at 7:00 for informal discussion\, and the lecture will begin at 7:30. Both Corrine and Sue are officers of the Astronomical Society of Greenbelt. \nOur monthly meetings are generally held on the last Thursday of the month\, 7:00–9:00 pm\, at the Greenbelt Community Center. They are also streamed via Zoom for those who cannot meet in person.  \nThese meetings are free and open to the public. \nZoom Meeting Information\nURL: https://us02web.zoom.us/j/88980234364?pwd=NWRPb0tNOXhXdE5ydG41OUU0cUhwZz09\nMeeting ID: 889 8023 4364\nPasscode: 723578\nPhone number: (301) 715-8592 or find your local number
URL:https://greenbeltastro.org/event/march-2023-meeting/
LOCATION:Greenbelt Community Center\, 15 Crescent Road\, Greenbelt\, MD\, 20770\, United States
CATEGORIES:Educational Events
END:VEVENT
END:VCALENDAR