BEGIN:VCALENDAR
VERSION:2.0
PRODID:-//Astronomical Society of Greenbelt - ECPv6.15.3//NONSGML v1.0//EN
CALSCALE:GREGORIAN
METHOD:PUBLISH
X-WR-CALNAME:Astronomical Society of Greenbelt
X-ORIGINAL-URL:https://greenbeltastro.org
X-WR-CALDESC:Events for Astronomical Society of Greenbelt
REFRESH-INTERVAL;VALUE=DURATION:PT1H
X-Robots-Tag:noindex
X-PUBLISHED-TTL:PT1H
BEGIN:VTIMEZONE
TZID:America/New_York
BEGIN:DAYLIGHT
TZOFFSETFROM:-0500
TZOFFSETTO:-0400
TZNAME:EDT
DTSTART:20230312T070000
END:DAYLIGHT
BEGIN:STANDARD
TZOFFSETFROM:-0400
TZOFFSETTO:-0500
TZNAME:EST
DTSTART:20231105T060000
END:STANDARD
END:VTIMEZONE
BEGIN:VEVENT
DTSTART;TZID=America/New_York:20230126T190000
DTEND;TZID=America/New_York:20230126T210000
DTSTAMP:20260425T095220
CREATED:20221106T190325Z
LAST-MODIFIED:20230124T005351Z
UID:1111-1674759600-1674766800@greenbeltastro.org
SUMMARY:January Meeting: The New Horizons Mission After Pluto
DESCRIPTION:Our January meeting will be held on Thursday\, January 26. Mark “Indy” Kochte will be presenting a talk on what the New Horizons mission has been doing since it left Pluto. This event is free and open to the public. We will gather at 7:00 pm for informal conversation\, and the lecture will begin at 7:30 pm. \nThis meeting will be held at the Greenbelt Community Center and streamed live on Zoom. \nJoin the Zoom Meeting\n\nOnline: https://us02web.zoom.us/j/85166282337?pwd=cUs5Vkw3bDJIR1NwY3o0NmxCNk5GUT09\nPhone: 301-715-8592\nMeeting ID: 851 6628 2337\nPasscode: 731055
URL:https://greenbeltastro.org/event/january-meeting-the-new-horizons-mission-after-pluto/
LOCATION:Greenbelt Community Center\, 15 Crescent Road\, Greenbelt\, MD\, 20770\, United States
CATEGORIES:Educational Events
END:VEVENT
END:VCALENDAR