BEGIN:VCALENDAR
VERSION:2.0
PRODID:-//Astronomical Society of Greenbelt - ECPv6.15.3//NONSGML v1.0//EN
CALSCALE:GREGORIAN
METHOD:PUBLISH
X-ORIGINAL-URL:https://greenbeltastro.org
X-WR-CALDESC:Events for Astronomical Society of Greenbelt
REFRESH-INTERVAL;VALUE=DURATION:PT1H
X-Robots-Tag:noindex
X-PUBLISHED-TTL:PT1H
BEGIN:VTIMEZONE
TZID:America/New_York
BEGIN:DAYLIGHT
TZOFFSETFROM:-0500
TZOFFSETTO:-0400
TZNAME:EDT
DTSTART:20220313T070000
END:DAYLIGHT
BEGIN:STANDARD
TZOFFSETFROM:-0400
TZOFFSETTO:-0500
TZNAME:EST
DTSTART:20221106T060000
END:STANDARD
END:VTIMEZONE
BEGIN:VEVENT
DTSTART;TZID=America/New_York:20220825T193000
DTEND;TZID=America/New_York:20220825T210000
DTSTAMP:20260425T175201
CREATED:20220817T014240Z
LAST-MODIFIED:20220824T045949Z
UID:1057-1661455800-1661461200@greenbeltastro.org
SUMMARY:Greenbelt's Light Bucket: The ASG's Telescope in the City of Greenbelt Observatory
DESCRIPTION:The Astronomical Society of Greenbelt welcomes all to hear Conrad Terrill\, chair of the ASG Observatory Committee\, speak on “Greenbelt’s Light Bucket: The ASG’s Telescope in the City of Greenbelt Observatory\,” on Thursday\, August 25\, at 7:30 pm. His talk will cover upgrades over the past few years plus a brief pictorial history of astronomy in Greenbelt and of the installation of the observatory. \nThe talk will take place in Room 114 of the Greenbelt Community Center and will also be broadcast live over Zoom. This event is free and all are welcome\, whether members of the Society or not. \nZoom Information\nLink: https://us02web.zoom.us/j/89708624814?pwd=ZGljTEQ1ZTRLMTc4b0g0RnBzQmt2dz09 \nMeeting ID: 897 0862 4814 \nPasscode: 068767 \nJoin by Phone: (301) 715-8592
URL:https://greenbeltastro.org/event/greenbelts-light-bucket-the-asgs-telescope-in-the-city-of-greenbelt-observatory/
LOCATION:Greenbelt Community Center\, 15 Crescent Road\, Greenbelt\, MD\, 20770\, United States
CATEGORIES:Educational Events
END:VEVENT
END:VCALENDAR