BEGIN:VCALENDAR
VERSION:2.0
PRODID:-//Astronomical Society of Greenbelt - ECPv6.15.3//NONSGML v1.0//EN
CALSCALE:GREGORIAN
METHOD:PUBLISH
X-ORIGINAL-URL:https://greenbeltastro.org
X-WR-CALDESC:Events for Astronomical Society of Greenbelt
REFRESH-INTERVAL;VALUE=DURATION:PT1H
X-Robots-Tag:noindex
X-PUBLISHED-TTL:PT1H
BEGIN:VTIMEZONE
TZID:America/New_York
BEGIN:DAYLIGHT
TZOFFSETFROM:-0500
TZOFFSETTO:-0400
TZNAME:EDT
DTSTART:20220313T070000
END:DAYLIGHT
BEGIN:STANDARD
TZOFFSETFROM:-0400
TZOFFSETTO:-0500
TZNAME:EST
DTSTART:20221106T060000
END:STANDARD
END:VTIMEZONE
BEGIN:VEVENT
DTSTART;TZID=America/New_York:20220526T193000
DTEND;TZID=America/New_York:20220526T210000
DTSTAMP:20260425T215021
CREATED:20220120T021916Z
LAST-MODIFIED:20220526T194355Z
UID:507-1653593400-1653598800@greenbeltastro.org
SUMMARY:May Meeting: NASA Goddard Sounding Rocket Program
DESCRIPTION:Dr. Aaron W. Breneman of the NASA Goddard Space Flight Center will speak on Goddard’s sounding rocket program and the work he’s doing on the Endurance rocket to measure the Earth’s global electric potential. \nZoom Meeting Details\nhttps://us02web.zoom.us/j/82668864999?pwd=u-R-1AGUYts2Z_HBWqzuYje82x4U9y.1 \n\nMeeting ID: 826 6886 4999\nPasscode: 513343\n\nPhone Numbers\n\n301 715 8592 US (Washington DC)\n646 558 8656 US (New York)\n312 626 6799 US (Chicago)\n253 215 8782 US (Tacoma)\n346 248 7799 US (Houston)\n669 900 9128 US (San Jose)
URL:https://greenbeltastro.org/event/may-meeting-nasa-goddard-sounding-rocket-program/
LOCATION:Zoom
CATEGORIES:Educational Events
END:VEVENT
END:VCALENDAR