BEGIN:VCALENDAR
VERSION:2.0
PRODID:-//Astronomical Society of Greenbelt - ECPv6.15.3//NONSGML v1.0//EN
CALSCALE:GREGORIAN
METHOD:PUBLISH
X-ORIGINAL-URL:https://greenbeltastro.org
X-WR-CALDESC:Events for Astronomical Society of Greenbelt
REFRESH-INTERVAL;VALUE=DURATION:PT1H
X-Robots-Tag:noindex
X-PUBLISHED-TTL:PT1H
BEGIN:VTIMEZONE
TZID:America/New_York
BEGIN:DAYLIGHT
TZOFFSETFROM:-0500
TZOFFSETTO:-0400
TZNAME:EDT
DTSTART:20240310T070000
END:DAYLIGHT
BEGIN:STANDARD
TZOFFSETFROM:-0400
TZOFFSETTO:-0500
TZNAME:EST
DTSTART:20241103T060000
END:STANDARD
END:VTIMEZONE
BEGIN:VEVENT
DTSTART;TZID=America/New_York:20240408T140400
DTEND;TZID=America/New_York:20240408T163300
DTSTAMP:20260425T091041
CREATED:20240330T131820Z
LAST-MODIFIED:20240330T131908Z
UID:1573-1712585040-1712593980@greenbeltastro.org
SUMMARY:Solar Eclipse Viewing
DESCRIPTION:Weather permitting\, the Astronomical Society of Greenbelt will provide safe telescope views of the April 8 solar eclipse at the City of Greenbelt Observatory.  The eclipse starts at 2:04 pm\, reaches its maximum of 89% at 3:20 pm\, and ends at 4:33 pm.  Eclipse glasses will be distributed while supplies last. \nThe event is open to members and non-members of all ages at no cost. We provide a fun\, family-friendly environment for learning about the universe. This is a great way to meet other astronomers in the community. And\, if you are new to the hobby\, members are always willing to help you learn how to use your telescope. \n\nIn accordance with Prince George’s County guidelines\, masks are voluntary.
URL:https://greenbeltastro.org/event/solar-eclipse-viewing/
LOCATION:City of Greenbelt Observatory\, 8101 Northway Road\, Greenbelt\, MD\, 20770\, United States
CATEGORIES:Eclipses
END:VEVENT
END:VCALENDAR