BEGIN:VCALENDAR
VERSION:2.0
PRODID:-//Astronomical Society of Greenbelt - ECPv6.15.3//NONSGML v1.0//EN
CALSCALE:GREGORIAN
METHOD:PUBLISH
X-WR-CALNAME:Astronomical Society of Greenbelt
X-ORIGINAL-URL:https://greenbeltastro.org
X-WR-CALDESC:Events for Astronomical Society of Greenbelt
REFRESH-INTERVAL;VALUE=DURATION:PT1H
X-Robots-Tag:noindex
X-PUBLISHED-TTL:PT1H
BEGIN:VTIMEZONE
TZID:America/New_York
BEGIN:DAYLIGHT
TZOFFSETFROM:-0500
TZOFFSETTO:-0400
TZNAME:EDT
DTSTART:20240310T070000
END:DAYLIGHT
BEGIN:STANDARD
TZOFFSETFROM:-0400
TZOFFSETTO:-0500
TZNAME:EST
DTSTART:20241103T060000
END:STANDARD
END:VTIMEZONE
BEGIN:VEVENT
DTSTART;TZID=America/New_York:20240125T190000
DTEND;TZID=America/New_York:20240125T210000
DTSTAMP:20260425T104529
CREATED:20240123T234754Z
LAST-MODIFIED:20240201T014844Z
UID:1505-1706209200-1706216400@greenbeltastro.org
SUMMARY:Monthly Meeting
DESCRIPTION:The meetings of the Astronomical Society of Greenbank are generally held on the last Thursday of each month. We meet at 7:00 pm for general discussion\, and the presentation begins at 7:30 pm. Our speakers include NASA scientists and engineers\, local experts from organizations such as the Smithsonian and the Applied Physics Lab\, and club members. \nThe events are held at the Greenbelt Community Center. The presentations are free and open to the public.
URL:https://greenbeltastro.org/event/monthly-meeting/
LOCATION:Greenbelt Community Center\, 15 Crescent Road\, Greenbelt\, MD\, 20770\, United States
CATEGORIES:Educational Events
END:VEVENT
BEGIN:VEVENT
DTSTART;TZID=America/New_York:20240328T190000
DTEND;TZID=America/New_York:20240328T210000
DTSTAMP:20260425T104529
CREATED:20240327T173348Z
LAST-MODIFIED:20240330T132836Z
UID:1571-1711652400-1711659600@greenbeltastro.org
SUMMARY:Monthly Meeting
DESCRIPTION:Our March meeting will be held on Thursday\, March 28. We meet at 7:00 pm for general discussion\, and the presentation begins at 7:30 pm. The presenter for this month is Corinne Carter\, who will be giving a talk entitled “From Ada Lovelace to Grace Hopper: Pioneering Women of Information Technology” in honor of Women’s History Month. \nThe talk will be held at the Greenbelt Community Center. The presentations are free and open to the public. \nZoom Information\nThe lecture will also be available online for those who wish to participate remotely. \n\nURL: https://us02web.zoom.us/j/84901413280?pwd=YU9la1AwUXZrS0Q4dytiTVJ5b3I3dz09\nMeeting ID: 849 0141 3280\nPasscode: 419697
URL:https://greenbeltastro.org/event/monthly-meeting-3/
LOCATION:Greenbelt Community Center\, 15 Crescent Road\, Greenbelt\, MD\, 20770\, United States
CATEGORIES:Educational Events
END:VEVENT
END:VCALENDAR